BEGIN:VCALENDAR
VERSION:2.0
PRODID:icalendar-ruby
CALSCALE:GREGORIAN
METHOD:PUBLISH
BEGIN:VTIMEZONE
TZID:Europe/Moscow
BEGIN:STANDARD
DTSTART:19700101T000000
TZOFFSETFROM:+0300
TZOFFSETTO:+0300
TZNAME:MSK
END:STANDARD
END:VTIMEZONE
BEGIN:VEVENT
DTSTAMP:20260420T143954Z
UID:b9e6a029-a609-40f8-ad30-0d220fdf8731
DTSTART;TZID=Europe/Moscow:20230904T124500
DTEND;TZID=Europe/Moscow:20230904T142000
DESCRIPTION:Bayramukov A.A. S21-401\, S21-402
LOCATION:K-414
SUMMARY:Mathematical Physics Equations
RRULE:FREQ=WEEKLY;UNTIL=20231218T142000;WKST=MO
END:VEVENT
BEGIN:VEVENT
DTSTAMP:20260420T143954Z
UID:0b652dc6-05ab-4c74-9b84-04fa49fb90f4
DTSTART;TZID=Europe/Moscow:20230907T133500
DTEND;TZID=Europe/Moscow:20230907T151500
DESCRIPTION:Kutukov A.A.\, Bayramukov A.A. M23-103
LOCATION:B-212st
SUMMARY:Selected Chapters of Higher Mathematics
RRULE:FREQ=WEEKLY;UNTIL=20231221T151500;WKST=MO
END:VEVENT
BEGIN:VEVENT
DTSTAMP:20260420T143954Z
UID:5e6c9bae-a79f-46a4-b845-0291ba9cc63c
DTSTART;TZID=Europe/Moscow:20230906T143000
DTEND;TZID=Europe/Moscow:20230906T160500
DESCRIPTION:Kutukov A.A.\, Bayramukov A.A. M23-109\, M23-111
LOCATION:NLK-366
SUMMARY:Selected Chapters of Higher Mathematics
RRULE:FREQ=WEEKLY;UNTIL=20231213T160500;INTERVAL=2;WKST=MO
END:VEVENT
BEGIN:VEVENT
DTSTAMP:20260420T143954Z
UID:bff99fad-3cc3-44a5-8457-fdeb64126f6a
DTSTART;TZID=Europe/Moscow:20230913T143000
DTEND;TZID=Europe/Moscow:20230913T160500
DESCRIPTION:Bayramukov A.A.\, Kutukov A.A. M23-109\, M23-111
LOCATION:NLK-366
SUMMARY:Selected Chapters of Higher Mathematics
RRULE:FREQ=WEEKLY;UNTIL=20231220T160500;INTERVAL=2;WKST=MO
END:VEVENT
BEGIN:VEVENT
DTSTAMP:20260420T143954Z
UID:04fd2cce-019e-4513-bf32-a5e3cfc2436c
DTSTART;TZID=Europe/Moscow:20230906T161500
DTEND;TZID=Europe/Moscow:20230906T175000
DESCRIPTION:Kutukov A.A.\, Bayramukov A.A. S21-113
LOCATION:NLK-366
SUMMARY:Mathematical Physics Equations
RRULE:FREQ=WEEKLY;UNTIL=20231220T175000;WKST=MO
END:VEVENT
END:VCALENDAR
