BEGIN:VCALENDAR
VERSION:2.0
PRODID:icalendar-ruby
CALSCALE:GREGORIAN
METHOD:PUBLISH
BEGIN:VTIMEZONE
TZID:Europe/Moscow
BEGIN:STANDARD
DTSTART:19700101T000000
TZOFFSETFROM:+0300
TZOFFSETTO:+0300
TZNAME:MSK
END:STANDARD
END:VTIMEZONE
BEGIN:VEVENT
DTSTAMP:20260419T120503Z
UID:3fa5c226-7924-4c3e-8184-9db5cac7d97a
DTSTART;TZID=Europe/Moscow:20230902T143000
DTEND;TZID=Europe/Moscow:20230902T160500
DESCRIPTION:Averyanov G.P. S20-201
LOCATION:B-314a
SUMMARY:Design automation (computer workshop)
RRULE:FREQ=WEEKLY;UNTIL=20231209T160500;INTERVAL=2;WKST=MO
END:VEVENT
BEGIN:VEVENT
DTSTAMP:20260419T120503Z
UID:41cb79e3-c029-4207-a658-ebfb2e32ab21
DTSTART;TZID=Europe/Moscow:20230909T143000
DTEND;TZID=Europe/Moscow:20230909T160500
DESCRIPTION:Averyanov G.P. S20-201
LOCATION:B-314a
SUMMARY:Design automation (computer workshop)
RRULE:FREQ=WEEKLY;UNTIL=20231216T160500;INTERVAL=2;WKST=MO
EXDATE:20231104T143000
END:VEVENT
BEGIN:VEVENT
DTSTAMP:20260419T120503Z
UID:e0928959-3969-4581-a3d3-82b3a69b8abd
DTSTART;TZID=Europe/Moscow:20230904T202500
DTEND;TZID=Europe/Moscow:20230904T220000
DESCRIPTION:Averyanov G.P. B23-V02\, B23-V71
LOCATION:401
SUMMARY:Informatics
RRULE:FREQ=WEEKLY;UNTIL=20231211T220000;INTERVAL=2;WKST=MO
END:VEVENT
END:VCALENDAR
