BEGIN:VCALENDAR
VERSION:2.0
PRODID:icalendar-ruby
CALSCALE:GREGORIAN
METHOD:PUBLISH
BEGIN:VTIMEZONE
TZID:Europe/Moscow
BEGIN:STANDARD
DTSTART:19700101T000000
TZOFFSETFROM:+0300
TZOFFSETTO:+0300
TZNAME:MSK
END:STANDARD
END:VTIMEZONE
BEGIN:VEVENT
DTSTAMP:20260421T021907Z
UID:da740d81-fd60-4006-8665-e2f47242dce1
DTSTART;TZID=Europe/Moscow:20230901T083000
DTEND;TZID=Europe/Moscow:20230901T115000
DESCRIPTION:Mihaylova M.Y. B23-802
LOCATION:45-220
SUMMARY:English Language. Subgroup 2
RRULE:FREQ=WEEKLY;UNTIL=20231215T115000;WKST=MO
END:VEVENT
BEGIN:VEVENT
DTSTAMP:20260421T021907Z
UID:75be7103-68c7-4efa-a1dc-8237ad14ce65
DTSTART;TZID=Europe/Moscow:20230905T101500
DTEND;TZID=Europe/Moscow:20230905T115000
DESCRIPTION:Mihaylova M.Y. B22-801
LOCATION:45-215
SUMMARY:English for Specific Purposes: Mass Media. Subgroup 2
RRULE:FREQ=WEEKLY;UNTIL=20231219T115000;WKST=MO
END:VEVENT
BEGIN:VEVENT
DTSTAMP:20260421T021907Z
UID:ef477773-3705-40bf-86b3-a238cf93bdd2
DTSTART;TZID=Europe/Moscow:20230905T124500
DTEND;TZID=Europe/Moscow:20230905T142000
DESCRIPTION:Mihaylova M.Y. B22-803
LOCATION:45-220
SUMMARY:English for Specific Purposes: Mass Media. Subgroup 1
RRULE:FREQ=WEEKLY;UNTIL=20231219T142000;WKST=MO
END:VEVENT
BEGIN:VEVENT
DTSTAMP:20260421T021907Z
UID:b2991dd2-1d27-45cb-ba53-bbf4ae144a46
DTSTART;TZID=Europe/Moscow:20230905T143000
DTEND;TZID=Europe/Moscow:20230905T160500
DESCRIPTION:Mihaylova M.Y. B22-802
LOCATION:45-218
SUMMARY:English for Specific Purposes: Mass Media. Subgroup 2
RRULE:FREQ=WEEKLY;UNTIL=20231219T160500;WKST=MO
END:VEVENT
BEGIN:VEVENT
DTSTAMP:20260421T021907Z
UID:52428f2e-b494-4ad1-9c9f-587db7e0d569
DTSTART;TZID=Europe/Moscow:20230904T143000
DTEND;TZID=Europe/Moscow:20230904T175000
DESCRIPTION:Mihaylova M.Y. B23-802
LOCATION:45-215
SUMMARY:English Language. Subgroup 2
RRULE:FREQ=WEEKLY;UNTIL=20231218T175000;WKST=MO
END:VEVENT
BEGIN:VEVENT
DTSTAMP:20260421T021907Z
UID:d5861219-8d7c-4b7d-b9c4-d46774589e28
DTSTART;TZID=Europe/Moscow:20230906T161500
DTEND;TZID=Europe/Moscow:20230906T175000
DESCRIPTION:Mihaylova M.Y. B23-802
LOCATION:45-221
SUMMARY:English Language. Subgroup 2
RRULE:FREQ=WEEKLY;UNTIL=20231220T175000;WKST=MO
END:VEVENT
BEGIN:VEVENT
DTSTAMP:20260421T021907Z
UID:be299005-6849-40a7-8945-21515a88efae
DTSTART;TZID=Europe/Moscow:20230906T175500
DTEND;TZID=Europe/Moscow:20230906T193000
DESCRIPTION:Mihaylova M.Y. M22-801
LOCATION:45-221
SUMMARY:Translation Practice
RRULE:FREQ=WEEKLY;UNTIL=20231220T193000;WKST=MO
END:VEVENT
BEGIN:VEVENT
DTSTAMP:20260421T021907Z
UID:d328d188-8678-4540-bc66-03f498d538f9
DTSTART;TZID=Europe/Moscow:20230906T193500
DTEND;TZID=Europe/Moscow:20230906T211000
DESCRIPTION:Mihaylova M.Y. M22-802
LOCATION:45-221
SUMMARY:Translation Practice
RRULE:FREQ=WEEKLY;UNTIL=20231220T211000;WKST=MO
END:VEVENT
END:VCALENDAR
