BEGIN:VCALENDAR
VERSION:2.0
PRODID:icalendar-ruby
CALSCALE:GREGORIAN
METHOD:PUBLISH
BEGIN:VTIMEZONE
TZID:Europe/Moscow
BEGIN:STANDARD
DTSTART:19700101T000000
TZOFFSETFROM:+0300
TZOFFSETTO:+0300
TZNAME:MSK
END:STANDARD
END:VTIMEZONE
BEGIN:VEVENT
DTSTAMP:20260421T021832Z
UID:cdbc7aa5-5e26-4ce1-962f-aaa8f86abe33
DTSTART;TZID=Europe/Moscow:20230904T083000
DTEND;TZID=Europe/Moscow:20230904T100500
DESCRIPTION:Mihalyov A.S. B23-502\, B23-544
LOCATION:A-210
SUMMARY:Foreign Language. 1-B-1
RRULE:FREQ=WEEKLY;UNTIL=20231218T100500;WKST=MO
END:VEVENT
BEGIN:VEVENT
DTSTAMP:20260421T021833Z
UID:89affb5f-d136-4adf-b66a-bf1892fb1279
DTSTART;TZID=Europe/Moscow:20230901T083000
DTEND;TZID=Europe/Moscow:20230901T100500
DESCRIPTION:Mihalyov A.S. B23-702\, B23-712
LOCATION:B-216
SUMMARY:English Language. 1-YU-2
RRULE:FREQ=WEEKLY;UNTIL=20231215T100500;WKST=MO
END:VEVENT
BEGIN:VEVENT
DTSTAMP:20260421T021833Z
UID:1c94a682-413c-43b5-a647-b35cc9fbc6c6
DTSTART;TZID=Europe/Moscow:20230902T083000
DTEND;TZID=Europe/Moscow:20230902T100500
DESCRIPTION:Mihalyov A.S. M23-517
LOCATION:B-221
SUMMARY:Foreign Language (Special Course)
RRULE:FREQ=WEEKLY;UNTIL=20231216T100500;WKST=MO
EXDATE:20231104T083000
END:VEVENT
BEGIN:VEVENT
DTSTAMP:20260421T021833Z
UID:1dded11d-3520-4677-970a-8b50c873dbe6
DTSTART;TZID=Europe/Moscow:20230902T101500
DTEND;TZID=Europe/Moscow:20230902T115000
DESCRIPTION:Mihalyov A.S. S20-703
LOCATION:325
SUMMARY:English Language: Speaking Practice
RRULE:FREQ=WEEKLY;UNTIL=20231216T115000;WKST=MO
EXDATE:20231104T101500
END:VEVENT
BEGIN:VEVENT
DTSTAMP:20260421T021833Z
UID:dd44b577-cf1c-4a82-b96d-bb3d5bf41477
DTSTART;TZID=Europe/Moscow:20230901T101500
DTEND;TZID=Europe/Moscow:20230901T115000
DESCRIPTION:Mihalyov A.S. B22-101\, B22-102\, B22-103
LOCATION:B-207
SUMMARY:English Language. 2-N 2
RRULE:FREQ=WEEKLY;UNTIL=20231215T115000;WKST=MO
END:VEVENT
BEGIN:VEVENT
DTSTAMP:20260421T021833Z
UID:8de3446b-b770-42d5-b174-18d89246b877
DTSTART;TZID=Europe/Moscow:20230904T101500
DTEND;TZID=Europe/Moscow:20230904T115000
DESCRIPTION:Mihalyov A.S. B22-901\, B22-902
LOCATION:K-202
SUMMARY:English Language\; Foreign Language. 2-L 1
RRULE:FREQ=WEEKLY;UNTIL=20231211T115000;INTERVAL=2;WKST=MO
END:VEVENT
BEGIN:VEVENT
DTSTAMP:20260421T021833Z
UID:f572e53f-a96a-4251-a4e2-1cdbf901055a
DTSTART;TZID=Europe/Moscow:20230902T115500
DTEND;TZID=Europe/Moscow:20230902T133000
DESCRIPTION:Mihalyov A.S. S20-701
LOCATION:NLK-466
SUMMARY:English Language: Speaking Practice
RRULE:FREQ=WEEKLY;UNTIL=20231216T133000;WKST=MO
EXDATE:20231104T115500
END:VEVENT
BEGIN:VEVENT
DTSTAMP:20260421T021833Z
UID:64de9e0c-9a07-43c7-9183-d3c67a351593
DTSTART;TZID=Europe/Moscow:20230904T115500
DTEND;TZID=Europe/Moscow:20230904T133000
DESCRIPTION:Mihalyov A.S. B23-206\, B23-207\, B23-212
LOCATION:B-216
SUMMARY:English Language. 1-N-3
RRULE:FREQ=WEEKLY;UNTIL=20231218T133000;WKST=MO
END:VEVENT
BEGIN:VEVENT
DTSTAMP:20260421T021833Z
UID:cac7f234-040d-4ab6-a5d6-6aca7d45d582
DTSTART;TZID=Europe/Moscow:20230901T133500
DTEND;TZID=Europe/Moscow:20230901T151500
DESCRIPTION:Mihalyov A.S. M23-506
LOCATION:407
SUMMARY:Foreign Language (Special Course)
RRULE:FREQ=WEEKLY;UNTIL=20231215T151500;WKST=MO
END:VEVENT
BEGIN:VEVENT
DTSTAMP:20260421T021833Z
UID:b4483cef-c2dc-4e70-b78c-271abd052528
DTSTART;TZID=Europe/Moscow:20230905T143000
DTEND;TZID=Europe/Moscow:20230905T160500
DESCRIPTION:Mihalyov A.S. B23-301\, B23-311
LOCATION:A-306
SUMMARY:Foreign Language. 1-P-2
RRULE:FREQ=WEEKLY;UNTIL=20231219T160500;WKST=MO
END:VEVENT
BEGIN:VEVENT
DTSTAMP:20260421T021833Z
UID:757b20ab-81fa-449d-9ca9-ca1ed477cdb9
DTSTART;TZID=Europe/Moscow:20230904T143000
DTEND;TZID=Europe/Moscow:20230904T160500
DESCRIPTION:Mihalyov A.S. B23-201\, B23-211
LOCATION:A-308
SUMMARY:English Language. 1-J-2
RRULE:FREQ=WEEKLY;UNTIL=20231218T160500;WKST=MO
END:VEVENT
BEGIN:VEVENT
DTSTAMP:20260421T021833Z
UID:6b4fffd4-d190-4479-922a-89d6d0783d91
DTSTART;TZID=Europe/Moscow:20230907T143000
DTEND;TZID=Europe/Moscow:20230907T160500
DESCRIPTION:Mihalyov A.S. B23-601\, B23-612\, B23-614
LOCATION:A-210
SUMMARY:English Language. 1-T-1
RRULE:FREQ=WEEKLY;UNTIL=20231221T160500;WKST=MO
END:VEVENT
BEGIN:VEVENT
DTSTAMP:20260421T021833Z
UID:816865e9-573a-49de-be6c-485926bd8a01
DTSTART;TZID=Europe/Moscow:20230902T143000
DTEND;TZID=Europe/Moscow:20230902T160500
DESCRIPTION:Mihalyov A.S. S21-103
LOCATION:A-308
SUMMARY:Principles of Professional Communication in a Foreign Language. Sub
 group 2
RRULE:FREQ=WEEKLY;UNTIL=20231216T160500;WKST=MO
EXDATE:20231104T143000
END:VEVENT
BEGIN:VEVENT
DTSTAMP:20260421T021833Z
UID:02476f1d-4b89-4cc1-a7f7-ff1a45c5f305
DTSTART;TZID=Europe/Moscow:20230904T161500
DTEND;TZID=Europe/Moscow:20230904T175000
DESCRIPTION:Mihalyov A.S. B23-563\, B23-565
LOCATION:V-403
SUMMARY:Foreign Language
RRULE:FREQ=WEEKLY;UNTIL=20231218T175000;WKST=MO
END:VEVENT
BEGIN:VEVENT
DTSTAMP:20260421T021833Z
UID:50dfc5f3-c078-49ff-9158-44d7e886a44d
DTSTART;TZID=Europe/Moscow:20230905T161500
DTEND;TZID=Europe/Moscow:20230905T175000
DESCRIPTION:Mihalyov A.S. B23-505\, B23-506
LOCATION:K-411
SUMMARY:Foreign Language. 1-E-2
RRULE:FREQ=WEEKLY;UNTIL=20231219T175000;WKST=MO
END:VEVENT
BEGIN:VEVENT
DTSTAMP:20260421T021833Z
UID:ff39966f-17e3-4a60-ad10-d3b59f1a98c4
DTSTART;TZID=Europe/Moscow:20230901T161500
DTEND;TZID=Europe/Moscow:20230901T175000
DESCRIPTION:Mihalyov A.S. B23-515\, B23-604
LOCATION:A-212
SUMMARY:English Language\; Foreign Language. 1-G-1
RRULE:FREQ=WEEKLY;UNTIL=20231215T175000;WKST=MO
END:VEVENT
BEGIN:VEVENT
DTSTAMP:20260421T021833Z
UID:ab05c412-2ee9-458e-af7f-4065f945ce4a
DTSTART;TZID=Europe/Moscow:20230907T161500
DTEND;TZID=Europe/Moscow:20230907T175000
DESCRIPTION:Mihalyov A.S. B23-701\, B23-703
LOCATION:NLK-473
SUMMARY:English Language\; Foreign Language. 1-SCH-2
RRULE:FREQ=WEEKLY;UNTIL=20231221T175000;WKST=MO
END:VEVENT
BEGIN:VEVENT
DTSTAMP:20260421T021833Z
UID:cfcfe167-c81b-4052-b125-54e967b47769
DTSTART;TZID=Europe/Moscow:20230905T184500
DTEND;TZID=Europe/Moscow:20230905T202000
DESCRIPTION:Mihalyov A.S. M23-311
LOCATION:A-212
SUMMARY:Foreign Language (Special Course)
RRULE:FREQ=WEEKLY;UNTIL=20231219T202000;WKST=MO
END:VEVENT
BEGIN:VEVENT
DTSTAMP:20260421T021833Z
UID:ecfc7408-19eb-4841-9bdb-8e593b38f36f
DTSTART;TZID=Europe/Moscow:20230905T202500
DTEND;TZID=Europe/Moscow:20230905T220000
DESCRIPTION:Mihalyov A.S. B23-V02
LOCATION:B-207
SUMMARY:Foreign Language
RRULE:FREQ=WEEKLY;UNTIL=20231219T220000;WKST=MO
END:VEVENT
END:VCALENDAR
