BEGIN:VCALENDAR
VERSION:2.0
PRODID:icalendar-ruby
CALSCALE:GREGORIAN
METHOD:PUBLISH
BEGIN:VTIMEZONE
TZID:Europe/Moscow
BEGIN:STANDARD
DTSTART:19700101T000000
TZOFFSETFROM:+0300
TZOFFSETTO:+0300
TZNAME:MSK
END:STANDARD
END:VTIMEZONE
BEGIN:VEVENT
DTSTAMP:20260420T012158Z
UID:8e756d9c-8bd1-4556-bb7a-b6fc8db989c5
DTSTART;TZID=Europe/Moscow:20230901T083000
DTEND;TZID=Europe/Moscow:20230901T110000
DESCRIPTION:Struchalin P.G. S22-103
LOCATION:D-305
SUMMARY:Engineering Drawing and Computer Graphics. Subgroup 2
RRULE:FREQ=WEEKLY;UNTIL=20231215T110000;WKST=MO
END:VEVENT
BEGIN:VEVENT
DTSTAMP:20260420T012158Z
UID:cdbfeb13-fbbf-44c2-aea4-bac577c6c9bf
DTSTART;TZID=Europe/Moscow:20230907T083000
DTEND;TZID=Europe/Moscow:20230907T100500
DESCRIPTION:Struchalin P.G.\, Fedoseev V.N. M22-191
LOCATION:E-409
SUMMARY:Design of NPP
RRULE:FREQ=WEEKLY;UNTIL=20231221T100500;WKST=MO
END:VEVENT
BEGIN:VEVENT
DTSTAMP:20260420T012158Z
UID:cb008e0a-32db-4512-9eff-0a6a403cf374
DTSTART;TZID=Europe/Moscow:20230907T101500
DTEND;TZID=Europe/Moscow:20230907T115000
DESCRIPTION:Struchalin P.G.\, Fedoseev V.N. M22-191
LOCATION:E-409
SUMMARY:Design of NPP
RRULE:FREQ=WEEKLY;UNTIL=20231221T115000;WKST=MO
END:VEVENT
BEGIN:VEVENT
DTSTAMP:20260420T012158Z
UID:3ee1dff4-9497-4618-8c80-f9e852367630
DTSTART;TZID=Europe/Moscow:20230901T110500
DTEND;TZID=Europe/Moscow:20230901T115000
DESCRIPTION:Struchalin P.G. S22-103
LOCATION:D-305
SUMMARY:Engineering Drawing and Computer Graphics. Subgroup 2
RRULE:FREQ=WEEKLY;UNTIL=20231215T115000;WKST=MO
END:VEVENT
BEGIN:VEVENT
DTSTAMP:20260420T012158Z
UID:ec23f7e4-ae2a-4a14-ac6b-4e96c61aa925
DTSTART;TZID=Europe/Moscow:20230901T115500
DTEND;TZID=Europe/Moscow:20230901T133000
DESCRIPTION:Struchalin P.G.\, Kuzmenkov D.M. B20-101
LOCATION:E-403
SUMMARY:Theory of heat and mass transfer (part 2)
RRULE:FREQ=WEEKLY;UNTIL=20231208T133000;INTERVAL=2;WKST=MO
END:VEVENT
BEGIN:VEVENT
DTSTAMP:20260420T012158Z
UID:23f3a885-2dd5-4725-860c-8764d83ec711
DTSTART;TZID=Europe/Moscow:20230907T124500
DTEND;TZID=Europe/Moscow:20230907T142000
DESCRIPTION:Struchalin P.G.\, Kuzmenkov D.M. M22-191
LOCATION:dep.13
SUMMARY:Practical Training (Research Work)
RRULE:FREQ=WEEKLY;UNTIL=20231221T142000;WKST=MO
END:VEVENT
BEGIN:VEVENT
DTSTAMP:20260420T012158Z
UID:037c856d-b6c7-4856-9d6b-0d8be486fd29
DTSTART;TZID=Europe/Moscow:20230907T124500
DTEND;TZID=Europe/Moscow:20230907T142000
DESCRIPTION:Struchalin P.G.\, Fedoseev V.N. M23-190
LOCATION:E-409
SUMMARY:Design of NPP
RRULE:FREQ=WEEKLY;UNTIL=20231214T142000;INTERVAL=2;WKST=MO
END:VEVENT
BEGIN:VEVENT
DTSTAMP:20260420T012158Z
UID:5b469fd7-13c8-46c6-a84c-cfa39d60fe6e
DTSTART;TZID=Europe/Moscow:20230914T124500
DTEND;TZID=Europe/Moscow:20230914T142000
DESCRIPTION:Struchalin P.G.\, Fedoseev V.N. M23-190
LOCATION:E-409
SUMMARY:Design of NPP
RRULE:FREQ=WEEKLY;UNTIL=20231221T142000;INTERVAL=2;WKST=MO
END:VEVENT
BEGIN:VEVENT
DTSTAMP:20260420T012158Z
UID:4ed7764f-cd12-4240-a5fd-3f8ca657e6fa
DTSTART;TZID=Europe/Moscow:20230912T143000
DTEND;TZID=Europe/Moscow:20230912T160500
DESCRIPTION:Struchalin P.G. S20-101
LOCATION:E-403
SUMMARY:Heat and Mass Transfer Theory 
RRULE:FREQ=WEEKLY;UNTIL=20231219T160500;INTERVAL=2;WKST=MO
END:VEVENT
BEGIN:VEVENT
DTSTAMP:20260420T012158Z
UID:013a49f4-6189-4021-936d-05f68ac5907e
DTSTART;TZID=Europe/Moscow:20230906T161500
DTEND;TZID=Europe/Moscow:20230906T175000
DESCRIPTION:Struchalin P.G.\, Saveliev A.A. B21-102\, B21-103\, B21-104\,
  B21-105\, B21-107\, B21-201\, B21-202\, B21-203\, B21-204\, B21-205\, B21
 -211\, B21-212\, B21-215\, B21-221
LOCATION:E-406
SUMMARY:
RRULE:FREQ=WEEKLY;UNTIL=20231213T175000;INTERVAL=2;WKST=MO
END:VEVENT
BEGIN:VEVENT
DTSTAMP:20260420T012158Z
UID:721fac07-3154-4ee0-84b4-9110a9ba859b
DTSTART;TZID=Europe/Moscow:20230907T161500
DTEND;TZID=Europe/Moscow:20230907T175000
DESCRIPTION:Dmitrieva A.N.\, Struchalin P.G.\, Scherbakov A.A.\, Kruglik
 ov A.E.\, Sinev V.V.\, Tihomirov G.V. B23-101\, B23-102\, B23-104\, B23
 -105\, B23-107\, B23-161\, B23-162
LOCATION:dep.411
SUMMARY:
RRULE:FREQ=WEEKLY;UNTIL=20231214T175000;INTERVAL=2;WKST=MO
END:VEVENT
BEGIN:VEVENT
DTSTAMP:20260420T012158Z
UID:a9e92f8b-8740-4009-b00f-63b47e40ec08
DTSTART;TZID=Europe/Moscow:20230904T161500
DTEND;TZID=Europe/Moscow:20230904T175000
DESCRIPTION:Struchalin P.G. S20-103
LOCATION:E-403
SUMMARY:Heat transfer in nuclear power plants
RRULE:FREQ=WEEKLY;UNTIL=20231211T175000;INTERVAL=2;WKST=MO
END:VEVENT
BEGIN:VEVENT
DTSTAMP:20260420T012158Z
UID:a273259f-5c67-42e7-a33e-f40ba75dbdde
DTSTART;TZID=Europe/Moscow:20230913T161500
DTEND;TZID=Europe/Moscow:20230913T175000
DESCRIPTION:Saveliev A.A.\, Struchalin P.G. B21-102\, B21-103\, B21-104\,
  B21-105\, B21-107\, B21-201\, B21-202\, B21-203\, B21-204\, B21-205\, B21
 -211\, B21-212\, B21-215\, B21-221
LOCATION:E-406
SUMMARY:
RRULE:FREQ=WEEKLY;UNTIL=20231220T175000;INTERVAL=2;WKST=MO
END:VEVENT
BEGIN:VEVENT
DTSTAMP:20260420T012158Z
UID:3ba13c88-b27f-46d5-907a-03e6bd4375d3
DTSTART;TZID=Europe/Moscow:20230912T161500
DTEND;TZID=Europe/Moscow:20230912T175000
DESCRIPTION:Tihomirov G.V.\, Dmitrieva A.N.\, Naumov P.Y.\, Struchalin 
 P.G.\, Scherbakov A.A. B22-101\, B22-102\, B22-104\, B22-105\, B22-161
LOCATION:dep.411
SUMMARY:
RRULE:FREQ=WEEKLY;UNTIL=20231219T175000;INTERVAL=2;WKST=MO
END:VEVENT
END:VCALENDAR
