BEGIN:VCALENDAR
VERSION:2.0
PRODID:icalendar-ruby
CALSCALE:GREGORIAN
METHOD:PUBLISH
BEGIN:VTIMEZONE
TZID:Europe/Moscow
BEGIN:STANDARD
DTSTART:19700101T000000
TZOFFSETFROM:+0300
TZOFFSETTO:+0300
TZNAME:MSK
END:STANDARD
END:VTIMEZONE
BEGIN:VEVENT
DTSTAMP:20260419T221142Z
UID:c57cf2cd-c44c-4dfe-9106-56720c0c9dd8
DTSTART;TZID=Europe/Moscow:20230905T083000
DTEND;TZID=Europe/Moscow:20230905T100500
DESCRIPTION:Aleshinskaya E.V. A23-202\, A23-205\, A23-221
SUMMARY:Foreign Language
RRULE:FREQ=WEEKLY;UNTIL=20231226T100500;WKST=MO
END:VEVENT
BEGIN:VEVENT
DTSTAMP:20260419T221142Z
UID:4e6a8ff5-9c6e-4186-b7fc-ca21f2403a16
DTSTART;TZID=Europe/Moscow:20230904T083000
DTEND;TZID=Europe/Moscow:20230904T100500
DESCRIPTION:Aleshinskaya E.V. A23-104\, A23-121
SUMMARY:Foreign Language
RRULE:FREQ=WEEKLY;UNTIL=20231225T100500;WKST=MO
END:VEVENT
BEGIN:VEVENT
DTSTAMP:20260419T221142Z
UID:d7fe30aa-a23c-4c69-8061-595905e1ca00
DTSTART;TZID=Europe/Moscow:20230907T083000
DTEND;TZID=Europe/Moscow:20230907T100500
DESCRIPTION:Aleshinskaya E.V. A23-501
SUMMARY:Foreign Language
RRULE:FREQ=WEEKLY;UNTIL=20231228T100500;WKST=MO
END:VEVENT
BEGIN:VEVENT
DTSTAMP:20260419T221142Z
UID:0c78e5e7-4ec6-4203-b35c-4dc5e34cb139
DTSTART;TZID=Europe/Moscow:20230906T083000
DTEND;TZID=Europe/Moscow:20230906T100500
DESCRIPTION:Aleshinskaya E.V. A23-101\, A23-131
SUMMARY:Foreign Language
RRULE:FREQ=WEEKLY;UNTIL=20231227T100500;WKST=MO
END:VEVENT
BEGIN:VEVENT
DTSTAMP:20260419T221142Z
UID:16b66af6-aa98-4620-891f-0ec90177e4f5
DTSTART;TZID=Europe/Moscow:20230906T101500
DTEND;TZID=Europe/Moscow:20230906T115000
DESCRIPTION:Aleshinskaya E.V. A23-401\, A23-412\, A23-413\, A23-433
SUMMARY:Foreign Language
RRULE:FREQ=WEEKLY;UNTIL=20231227T115000;WKST=MO
END:VEVENT
BEGIN:VEVENT
DTSTAMP:20260419T221142Z
UID:95982c84-c54c-4d08-b929-dd1e0647e278
DTSTART;TZID=Europe/Moscow:20230904T101500
DTEND;TZID=Europe/Moscow:20230904T115000
DESCRIPTION:Aleshinskaya E.V. A23-502\, A23-503
SUMMARY:Foreign Language
RRULE:FREQ=WEEKLY;UNTIL=20231225T115000;WKST=MO
END:VEVENT
BEGIN:VEVENT
DTSTAMP:20260419T221142Z
UID:0144876b-8de4-4fda-8e62-e8beddae3440
DTSTART;TZID=Europe/Moscow:20230905T101500
DTEND;TZID=Europe/Moscow:20230905T115000
DESCRIPTION:Aleshinskaya E.V. A23-601\, A23-609\, A23-623
SUMMARY:Foreign Language
RRULE:FREQ=WEEKLY;UNTIL=20231226T115000;WKST=MO
END:VEVENT
BEGIN:VEVENT
DTSTAMP:20260419T221142Z
UID:ede750d3-8cca-421a-b3a9-37df365407a9
DTSTART;TZID=Europe/Moscow:20230907T101500
DTEND;TZID=Europe/Moscow:20230907T115000
DESCRIPTION:Aleshinskaya E.V. A23-711\, A23-712\, A23-714\, A23-901\, A23-
 902
SUMMARY:Foreign Language
RRULE:FREQ=WEEKLY;UNTIL=20231228T115000;WKST=MO
END:VEVENT
BEGIN:VEVENT
DTSTAMP:20260419T221142Z
UID:f863abee-4171-4e89-a9e1-21e1ff1dbe75
DTSTART;TZID=Europe/Moscow:20230906T115500
DTEND;TZID=Europe/Moscow:20230906T133000
DESCRIPTION:Aleshinskaya E.V. A23-402\, A23-403\, A23-423
SUMMARY:Foreign Language
RRULE:FREQ=WEEKLY;UNTIL=20231227T133000;WKST=MO
END:VEVENT
BEGIN:VEVENT
DTSTAMP:20260419T221142Z
UID:baca7139-fdb9-49fd-bf24-a26e21a70a76
DTSTART;TZID=Europe/Moscow:20230907T124500
DTEND;TZID=Europe/Moscow:20230907T142000
DESCRIPTION:Aleshinskaya E.V. A23-201\, A23-204\, A23-211\, A23-212
SUMMARY:Foreign Language
RRULE:FREQ=WEEKLY;UNTIL=20231228T142000;WKST=MO
END:VEVENT
BEGIN:VEVENT
DTSTAMP:20260419T221142Z
UID:0967ae0d-c7a1-49c7-8977-73f3aa3e20f2
DTSTART;TZID=Europe/Moscow:20230905T124500
DTEND;TZID=Europe/Moscow:20230905T142000
DESCRIPTION:Aleshinskaya E.V. A23-301\, A23-302\, A23-303\, A23-304\, A23-
 313
SUMMARY:Foreign Language
RRULE:FREQ=WEEKLY;UNTIL=20231226T142000;WKST=MO
END:VEVENT
BEGIN:VEVENT
DTSTAMP:20260419T221142Z
UID:67298b13-a65d-4266-a1f4-045f3971f0b8
DTSTART;TZID=Europe/Moscow:20230904T124500
DTEND;TZID=Europe/Moscow:20230904T142000
DESCRIPTION:Aleshinskaya E.V. A23-105
SUMMARY:Foreign Language
RRULE:FREQ=WEEKLY;UNTIL=20231225T142000;WKST=MO
END:VEVENT
END:VCALENDAR
