BEGIN:VCALENDAR
VERSION:2.0
PRODID:icalendar-ruby
CALSCALE:GREGORIAN
METHOD:PUBLISH
BEGIN:VTIMEZONE
TZID:Europe/Moscow
BEGIN:STANDARD
DTSTART:19700101T000000
TZOFFSETFROM:+0300
TZOFFSETTO:+0300
TZNAME:MSK
END:STANDARD
END:VTIMEZONE
BEGIN:VEVENT
DTSTAMP:20260419T120446Z
UID:aa96d20d-64ec-4f00-a62f-5114ffed6fa1
DTSTART;TZID=Europe/Moscow:20230906T184500
DTEND;TZID=Europe/Moscow:20230906T220000
DESCRIPTION:Sapuntsov A.L. M22-781\, M22-783\, M23-721
LOCATION:K-208
SUMMARY:International System Fighting the Legalization of Criminal Incomes 
 and Terrorism Financing
RRULE:FREQ=WEEKLY;UNTIL=20230913T220000;WKST=MO
END:VEVENT
BEGIN:VEVENT
DTSTAMP:20260419T120446Z
UID:c433289e-b116-4f0e-a1b1-a27e02b35b42
DTSTART;TZID=Europe/Moscow:20230920T184500
DTEND;TZID=Europe/Moscow:20230920T220000
DESCRIPTION:Sapuntsov A.L. M22-781\, M22-783\, M23-721
LOCATION:K-208
SUMMARY:International System Fighting the Legalization of Criminal Incomes 
 and Terrorism Financing
RRULE:FREQ=WEEKLY;UNTIL=20231004T220000;WKST=MO
END:VEVENT
BEGIN:VEVENT
DTSTAMP:20260419T120446Z
UID:2623bb97-49bf-46cf-8f3d-9088497eb5c1
DTSTART;TZID=Europe/Moscow:20231011T184500
DTEND;TZID=Europe/Moscow:20231011T220000
DESCRIPTION:Sapuntsov A.L. M22-781\, M22-783\, M23-721
LOCATION:K-208
SUMMARY:International System Fighting the Legalization of Criminal Incomes 
 and Terrorism Financing
END:VEVENT
END:VCALENDAR
