BEGIN:VCALENDAR
VERSION:2.0
PRODID:icalendar-ruby
CALSCALE:GREGORIAN
METHOD:PUBLISH
BEGIN:VTIMEZONE
TZID:Europe/Moscow
BEGIN:STANDARD
DTSTART:19700101T000000
TZOFFSETFROM:+0300
TZOFFSETTO:+0300
TZNAME:MSK
END:STANDARD
END:VTIMEZONE
BEGIN:VEVENT
DTSTAMP:20260419T195659Z
UID:ca76db77-5918-4b17-8dbf-dbf72d4ec5a4
DTSTART;TZID=Europe/Moscow:20160905T124500
DTEND;TZID=Europe/Moscow:20160905T142000
DESCRIPTION:Terehova A.M.\, Kruglikov A.E.\, Volkov Y.N. S14-163
LOCATION:K-208
SUMMARY:Neutron Transport Theory
RRULE:FREQ=WEEKLY;UNTIL=20161212T142000;INTERVAL=2;WKST=MO
END:VEVENT
BEGIN:VEVENT
DTSTAMP:20260419T195659Z
UID:b0675f62-b26b-4e75-a79a-d49f31452d69
DTSTART;TZID=Europe/Moscow:20160912T124500
DTEND;TZID=Europe/Moscow:20160912T142000
DESCRIPTION:Terehova A.M.\, Kruglikov A.E.\, Volkov Y.N. S14-164
LOCATION:K-208
SUMMARY:Neutron Transport Theory
RRULE:FREQ=WEEKLY;UNTIL=20161219T142000;INTERVAL=2;WKST=MO
END:VEVENT
BEGIN:VEVENT
DTSTAMP:20260419T195659Z
UID:d80d1776-8064-4423-9aef-f18bf6646976
DTSTART;TZID=Europe/Moscow:20160905T143000
DTEND;TZID=Europe/Moscow:20160905T160500
DESCRIPTION:Terehova A.M.\, Kruglikov A.E.\, Volkov Y.N. S14-161
LOCATION:V-417
SUMMARY:Neutron Transport Theory
RRULE:FREQ=WEEKLY;UNTIL=20161212T160500;INTERVAL=2;WKST=MO
END:VEVENT
BEGIN:VEVENT
DTSTAMP:20260419T195659Z
UID:03cf72db-792f-4c86-9900-672b272281c1
DTSTART;TZID=Europe/Moscow:20160912T143000
DTEND;TZID=Europe/Moscow:20160912T160500
DESCRIPTION:Terehova A.M.\, Kruglikov A.E.\, Volkov Y.N. S14-162
LOCATION:K-1018
SUMMARY:Neutron Transport Theory
RRULE:FREQ=WEEKLY;UNTIL=20161219T160500;INTERVAL=2;WKST=MO
END:VEVENT
BEGIN:VEVENT
DTSTAMP:20260419T195659Z
UID:36a4ff83-80a4-4951-b580-55b1518a41fd
DTSTART;TZID=Europe/Moscow:20160905T161500
DTEND;TZID=Europe/Moscow:20160905T175000
DESCRIPTION:Terehova A.M.\, Kruglikov A.E.\, Volkov Y.N. S14-105
LOCATION:B-208
SUMMARY:Neutron Transport Theory
RRULE:FREQ=WEEKLY;UNTIL=20161219T175000;WKST=MO
END:VEVENT
END:VCALENDAR
