BEGIN:VCALENDAR
VERSION:2.0
PRODID:icalendar-ruby
CALSCALE:GREGORIAN
METHOD:PUBLISH
BEGIN:VTIMEZONE
TZID:Europe/Moscow
BEGIN:STANDARD
DTSTART:19700101T000000
TZOFFSETFROM:+0300
TZOFFSETTO:+0300
TZNAME:MSK
END:STANDARD
END:VTIMEZONE
BEGIN:VEVENT
DTSTAMP:20260420T233706Z
UID:e6742676-29f4-43c4-96bc-0398ef9f50de
DTSTART;TZID=Europe/Moscow:20230211T101500
DTEND;TZID=Europe/Moscow:20230211T115000
DESCRIPTION:Mokshin K.Y.\, Vazhinskiy V.A.\, Korolev A.S. M21-SH02\, M21
 -SH04
LOCATION:64-505a
SUMMARY:System analysis and system engineering. Project management and meth
 odology of project activities.
RRULE:FREQ=WEEKLY;UNTIL=20230408T115000;INTERVAL=2;WKST=MO
END:VEVENT
BEGIN:VEVENT
DTSTAMP:20260420T233706Z
UID:a7a638da-6c3b-4405-886e-57fc00e5c720
DTSTART;TZID=Europe/Moscow:20230218T101500
DTEND;TZID=Europe/Moscow:20230218T115000
DESCRIPTION:Mokshin K.Y.\, Vazhinskiy V.A.\, Korolev A.S. M21-SH02\, M21
 -SH04
LOCATION:64-505a
SUMMARY:System analysis and system engineering. Project management and meth
 odology of project activities.
RRULE:FREQ=WEEKLY;UNTIL=20230415T115000;INTERVAL=2;WKST=MO
END:VEVENT
END:VCALENDAR
