BEGIN:VCALENDAR
VERSION:2.0
PRODID:icalendar-ruby
CALSCALE:GREGORIAN
METHOD:PUBLISH
BEGIN:VTIMEZONE
TZID:Europe/Moscow
BEGIN:STANDARD
DTSTART:19700101T000000
TZOFFSETFROM:+0300
TZOFFSETTO:+0300
TZNAME:MSK
END:STANDARD
END:VTIMEZONE
BEGIN:VEVENT
DTSTAMP:20260419T195653Z
UID:31d05197-b696-44d7-aa58-744fca86d67d
DTSTART;TZID=Europe/Moscow:20230210T083000
DTEND;TZID=Europe/Moscow:20230210T100500
DESCRIPTION:Bryzgalova S.A. B21-701\, B21-702\, B21-902
LOCATION:B-205
SUMMARY:English Language. 2-M 2
RRULE:FREQ=WEEKLY;UNTIL=20230519T100500;WKST=MO
EXDATE:20230224T083000
END:VEVENT
BEGIN:VEVENT
DTSTAMP:20260419T195653Z
UID:02f82db6-e6ff-4918-885d-fdd035dc4734
DTSTART;TZID=Europe/Moscow:20230210T101500
DTEND;TZID=Europe/Moscow:20230210T115000
DESCRIPTION:Bryzgalova S.A. B21-513\, B21-524\, B21-534
LOCATION:B-205
SUMMARY:Foreign Language. 2-Z 2
RRULE:FREQ=WEEKLY;UNTIL=20230519T115000;WKST=MO
EXDATE:20230224T101500
END:VEVENT
BEGIN:VEVENT
DTSTAMP:20260419T195653Z
UID:460e990f-5a47-40bd-9387-e121162ef4e4
DTSTART;TZID=Europe/Moscow:20230210T115500
DTEND;TZID=Europe/Moscow:20230210T133000
DESCRIPTION:Bryzgalova S.A. B22-601\, B22-603
LOCATION:B-205
SUMMARY:English Language. 1W-2
RRULE:FREQ=WEEKLY;UNTIL=20230519T133000;WKST=MO
EXDATE:20230224T115500
END:VEVENT
BEGIN:VEVENT
DTSTAMP:20260419T195653Z
UID:836cabde-b318-4565-9e7c-a6698859c4c7
DTSTART;TZID=Europe/Moscow:20230208T115500
DTEND;TZID=Europe/Moscow:20230208T133000
DESCRIPTION:Bryzgalova S.A. B22-601\, B22-603
LOCATION:B-303
SUMMARY:English Language. 1W-2
RRULE:FREQ=WEEKLY;UNTIL=20230517T133000;WKST=MO
EXDATE:20230308T115500
END:VEVENT
BEGIN:VEVENT
DTSTAMP:20260419T195653Z
UID:8dce0b06-29ef-4ad5-8c87-01cb0f840419
DTSTART;TZID=Europe/Moscow:20230213T143000
DTEND;TZID=Europe/Moscow:20230213T160500
DESCRIPTION:Bryzgalova S.A. B22-201\, B22-221
LOCATION:A-306
SUMMARY:English Language. 1Q-1
RRULE:FREQ=WEEKLY;UNTIL=20230522T160500;WKST=MO
EXDATE:20230501T143000
EXDATE:20230508T143000
END:VEVENT
BEGIN:VEVENT
DTSTAMP:20260419T195653Z
UID:969d22e4-42d5-45ea-993e-8338498880df
DTSTART;TZID=Europe/Moscow:20230208T143000
DTEND;TZID=Europe/Moscow:20230208T160500
DESCRIPTION:Bryzgalova S.A. B20-514
LOCATION:A-306
SUMMARY:Principles of Professional Communication in a Foreign Language. Sub
 group 2
RRULE:FREQ=WEEKLY;UNTIL=20230517T160500;WKST=MO
EXDATE:20230308T143000
END:VEVENT
BEGIN:VEVENT
DTSTAMP:20260419T195653Z
UID:cc6e06d4-984a-4562-855f-99c96a51665b
DTSTART;TZID=Europe/Moscow:20230207T161500
DTEND;TZID=Europe/Moscow:20230207T175000
DESCRIPTION:Bryzgalova S.A. B22-505\, B22-515
LOCATION:B-301
SUMMARY:Foreign Language. 1F-2
RRULE:FREQ=WEEKLY;UNTIL=20230516T175000;WKST=MO
EXDATE:20230509T161500
END:VEVENT
BEGIN:VEVENT
DTSTAMP:20260419T195653Z
UID:904a51fd-1049-46b5-a995-ab59e43b2490
DTSTART;TZID=Europe/Moscow:20230208T161500
DTEND;TZID=Europe/Moscow:20230208T175000
DESCRIPTION:Bryzgalova S.A. B22-261\, B22-265
LOCATION:A-308
SUMMARY:English Language\; Foreign Language. Subgroup 2
RRULE:FREQ=WEEKLY;UNTIL=20230517T175000;WKST=MO
EXDATE:20230308T161500
END:VEVENT
BEGIN:VEVENT
DTSTAMP:20260419T195653Z
UID:b38b2759-a48b-48e0-91c2-1123ff2facdb
DTSTART;TZID=Europe/Moscow:20230213T161500
DTEND;TZID=Europe/Moscow:20230213T175000
DESCRIPTION:Bryzgalova S.A. B22-403\, B22-413
LOCATION:323
SUMMARY:English Language. 1V-2
RRULE:FREQ=WEEKLY;UNTIL=20230522T175000;WKST=MO
EXDATE:20230501T161500
EXDATE:20230508T161500
END:VEVENT
BEGIN:VEVENT
DTSTAMP:20260419T195653Z
UID:c78e3c6d-0f70-4f6b-8185-df60f802b309
DTSTART;TZID=Europe/Moscow:20230207T175500
DTEND;TZID=Europe/Moscow:20230207T193000
DESCRIPTION:Bryzgalova S.A. S19-702\, S19-712
LOCATION:B-205
SUMMARY:English Language: Speaking Practice. Subgroup 2
RRULE:FREQ=WEEKLY;UNTIL=20230516T193000;WKST=MO
EXDATE:20230509T175500
END:VEVENT
BEGIN:VEVENT
DTSTAMP:20260419T195653Z
UID:b7c23522-5b7b-4e17-a46f-b9ff937a0817
DTSTART;TZID=Europe/Moscow:20230208T175500
DTEND;TZID=Europe/Moscow:20230208T193000
DESCRIPTION:Bryzgalova S.A. M22-517
LOCATION:B-207
SUMMARY:Foreign Language (Special Course)
RRULE:FREQ=WEEKLY;UNTIL=20230517T193000;WKST=MO
EXDATE:20230308T175500
END:VEVENT
END:VCALENDAR
