BEGIN:VCALENDAR
VERSION:2.0
PRODID:icalendar-ruby
CALSCALE:GREGORIAN
METHOD:PUBLISH
BEGIN:VTIMEZONE
TZID:Europe/Moscow
BEGIN:STANDARD
DTSTART:19700101T000000
TZOFFSETFROM:+0300
TZOFFSETTO:+0300
TZNAME:MSK
END:STANDARD
END:VTIMEZONE
BEGIN:VEVENT
DTSTAMP:20260420T125227Z
UID:56d4ca39-2fdd-44ee-a826-79ecbb5e6b1c
DTSTART;TZID=Europe/Moscow:20230207T083000
DTEND;TZID=Europe/Moscow:20230207T100500
DESCRIPTION:Cherkasova E.A.\, Shushunova E.V. B21-601\, B21-611\, S21-602
LOCATION:B-303
SUMMARY:English Language\; Foreign Language. 2-J 3
RRULE:FREQ=WEEKLY;UNTIL=20230516T100500;WKST=MO
EXDATE:20230509T083000
END:VEVENT
BEGIN:VEVENT
DTSTAMP:20260420T125227Z
UID:340658a0-899a-4bb0-927e-d4e2c7b155ed
DTSTART;TZID=Europe/Moscow:20230211T083000
DTEND;TZID=Europe/Moscow:20230211T100500
DESCRIPTION:Shushunova E.V. S20-201\, S20-602
LOCATION:B-207
SUMMARY:Principles of Professional Communication in a Foreign Language
RRULE:FREQ=WEEKLY;UNTIL=20230520T100500;WKST=MO
END:VEVENT
BEGIN:VEVENT
DTSTAMP:20260420T125227Z
UID:8b3282d0-abef-4e8a-8447-9ad892297fa6
DTSTART;TZID=Europe/Moscow:20230211T101500
DTEND;TZID=Europe/Moscow:20230211T115000
DESCRIPTION:Shushunova E.V. B22-502\, B22-525\, S22-501
LOCATION:B-207
SUMMARY:Foreign Language. 1D-1
RRULE:FREQ=WEEKLY;UNTIL=20230520T115000;WKST=MO
END:VEVENT
BEGIN:VEVENT
DTSTAMP:20260420T125227Z
UID:f7ad0b73-9f03-4ded-b1b0-8b9841c2fa22
DTSTART;TZID=Europe/Moscow:20230207T101500
DTEND;TZID=Europe/Moscow:20230207T115000
DESCRIPTION:Shushunova E.V.\, Cherkasova E.A. B22-703\, B22-712\, S22-703
LOCATION:A-210
SUMMARY:English Language\; Foreign Language. 1K-3
RRULE:FREQ=WEEKLY;UNTIL=20230516T115000;WKST=MO
EXDATE:20230509T101500
END:VEVENT
BEGIN:VEVENT
DTSTAMP:20260420T125227Z
UID:1a71160b-5d90-449e-af70-1e995997544d
DTSTART;TZID=Europe/Moscow:20230210T101500
DTEND;TZID=Europe/Moscow:20230210T115000
DESCRIPTION:Shushunova E.V. B21-602\, B21-603\, B21-604
LOCATION:325
SUMMARY:English Language. 2-H 1
RRULE:FREQ=WEEKLY;UNTIL=20230519T115000;WKST=MO
EXDATE:20230224T101500
END:VEVENT
BEGIN:VEVENT
DTSTAMP:20260420T125227Z
UID:5c5b9466-ec49-40c8-8584-2e4e3303c66f
DTSTART;TZID=Europe/Moscow:20230211T115500
DTEND;TZID=Europe/Moscow:20230211T133000
DESCRIPTION:Shushunova E.V. S22-101\, S22-103
LOCATION:A-308
SUMMARY:English Language\; Foreign Language. 1M-1
RRULE:FREQ=WEEKLY;UNTIL=20230520T133000;WKST=MO
END:VEVENT
BEGIN:VEVENT
DTSTAMP:20260420T125227Z
UID:3ee24224-4480-47f7-919c-ff40351ec85d
DTSTART;TZID=Europe/Moscow:20230207T115500
DTEND;TZID=Europe/Moscow:20230207T142000
DESCRIPTION:Shushunova E.V.\, Cherkasova E.A. S18-402
LOCATION:NLK-464
SUMMARY:Principles of Professional Communication in a Foreign Language
RRULE:FREQ=WEEKLY;UNTIL=20230411T142000;WKST=MO
END:VEVENT
BEGIN:VEVENT
DTSTAMP:20260420T125227Z
UID:e27fe84e-0e4b-425e-88d9-12730a45ed87
DTSTART;TZID=Europe/Moscow:20230210T124500
DTEND;TZID=Europe/Moscow:20230210T142000
DESCRIPTION:Shushunova E.V. B22-701\, B22-702
LOCATION:325
SUMMARY:English Language. 1R-1
RRULE:FREQ=WEEKLY;UNTIL=20230519T142000;WKST=MO
EXDATE:20230224T124500
END:VEVENT
BEGIN:VEVENT
DTSTAMP:20260420T125227Z
UID:98d9d048-bc29-4e48-8b1b-1a1340176c17
DTSTART;TZID=Europe/Moscow:20230207T143000
DTEND;TZID=Europe/Moscow:20230207T160500
DESCRIPTION:Shushunova E.V. B22-501\, B22-504\, B22-511\, B22-544
LOCATION:B-401
SUMMARY:Foreign Language. 1C-1
RRULE:FREQ=WEEKLY;UNTIL=20230516T160500;WKST=MO
EXDATE:20230509T143000
END:VEVENT
BEGIN:VEVENT
DTSTAMP:20260420T125227Z
UID:363305c8-e4b6-4048-96f9-d2b0f3314e75
DTSTART;TZID=Europe/Moscow:20230209T143000
DTEND;TZID=Europe/Moscow:20230209T160500
DESCRIPTION:Shushunova E.V. B21-703\, B21-763\, B21-901\, S21-501
LOCATION:B-207
SUMMARY:Foreign Language. 2-D 2
RRULE:FREQ=WEEKLY;UNTIL=20230518T160500;WKST=MO
EXDATE:20230223T143000
END:VEVENT
BEGIN:VEVENT
DTSTAMP:20260420T125227Z
UID:d912f9fc-8158-461a-ac97-a4d2a9a2abeb
DTSTART;TZID=Europe/Moscow:20230210T143000
DTEND;TZID=Europe/Moscow:20230210T160500
DESCRIPTION:Shushunova E.V. S21-101\, S21-103\, S21-113
LOCATION:325
SUMMARY:English Language\; Foreign Language. 2-K 1
RRULE:FREQ=WEEKLY;UNTIL=20230519T160500;WKST=MO
EXDATE:20230224T143000
END:VEVENT
BEGIN:VEVENT
DTSTAMP:20260420T125227Z
UID:8d231ceb-ba68-463e-b81b-4e33a1b3deba
DTSTART;TZID=Europe/Moscow:20230208T143000
DTEND;TZID=Europe/Moscow:20230208T160500
DESCRIPTION:Shushunova E.V.\, Kolcheva A.B. B20-524
LOCATION:B-207
SUMMARY:Principles of Professional Communication in a Foreign Language
RRULE:FREQ=WEEKLY;UNTIL=20230517T160500;WKST=MO
EXDATE:20230308T143000
END:VEVENT
BEGIN:VEVENT
DTSTAMP:20260420T125227Z
UID:672aba09-b6dd-4328-a947-4877cdba185f
DTSTART;TZID=Europe/Moscow:20230210T161500
DTEND;TZID=Europe/Moscow:20230210T175000
DESCRIPTION:Shushunova E.V. B22-501\, B22-504\, B22-511\, B22-544
LOCATION:325
SUMMARY:Foreign Language. 1C-1
RRULE:FREQ=WEEKLY;UNTIL=20230519T175000;WKST=MO
EXDATE:20230224T161500
END:VEVENT
BEGIN:VEVENT
DTSTAMP:20260420T125227Z
UID:6193fb87-92c0-4517-aed4-99941025cb9a
DTSTART;TZID=Europe/Moscow:20230209T161500
DTEND;TZID=Europe/Moscow:20230209T175000
DESCRIPTION:Shushunova E.V. B22-505\, B22-515
LOCATION:B-207
SUMMARY:Foreign Language. 1F-1
RRULE:FREQ=WEEKLY;UNTIL=20230518T175000;WKST=MO
EXDATE:20230223T161500
END:VEVENT
BEGIN:VEVENT
DTSTAMP:20260420T125227Z
UID:7123d1af-a174-4b41-8e2e-f49d5424bc9c
DTSTART;TZID=Europe/Moscow:20230207T161500
DTEND;TZID=Europe/Moscow:20230207T175000
DESCRIPTION:Shushunova E.V. S21-701\, S21-711
LOCATION:B-403
SUMMARY:English Language. 2-N 1
RRULE:FREQ=WEEKLY;UNTIL=20230516T175000;WKST=MO
EXDATE:20230509T161500
END:VEVENT
BEGIN:VEVENT
DTSTAMP:20260420T125227Z
UID:c483cf08-234e-429c-93e8-a584efbd1260
DTSTART;TZID=Europe/Moscow:20230208T161500
DTEND;TZID=Europe/Moscow:20230208T175000
DESCRIPTION:Shushunova E.V.\, Kolcheva A.B. M22-507
LOCATION:B-216
SUMMARY:Foreign Language (Special Course)
RRULE:FREQ=WEEKLY;UNTIL=20230517T175000;WKST=MO
EXDATE:20230308T161500
END:VEVENT
END:VCALENDAR
