BEGIN:VCALENDAR
VERSION:2.0
PRODID:icalendar-ruby
CALSCALE:GREGORIAN
METHOD:PUBLISH
BEGIN:VTIMEZONE
TZID:Europe/Moscow
BEGIN:STANDARD
DTSTART:19700101T000000
TZOFFSETFROM:+0300
TZOFFSETTO:+0300
TZNAME:MSK
END:STANDARD
END:VTIMEZONE
BEGIN:VEVENT
DTSTAMP:20260419T184524Z
UID:9ebd16f1-679a-4191-b773-addd0b9f7e58
DTSTART;TZID=Europe/Moscow:20230210T083000
DTEND;TZID=Europe/Moscow:20230210T115000
DESCRIPTION:Korobkova E.A.\, Tarasov I.A. B20-202
LOCATION:K-1009
SUMMARY:General Electrical Engineering and Electronics
RRULE:FREQ=WEEKLY;UNTIL=20230519T115000;INTERVAL=2;WKST=MO
EXDATE:20230224T083000
END:VEVENT
BEGIN:VEVENT
DTSTAMP:20260419T184524Z
UID:79d00965-a803-4b89-afa0-71ba8ae25d2b
DTSTART;TZID=Europe/Moscow:20230207T124500
DTEND;TZID=Europe/Moscow:20230207T142000
DESCRIPTION:Korobkova E.A. S18-202
LOCATION:K-1017
SUMMARY:
RRULE:FREQ=WEEKLY;UNTIL=20230404T142000;INTERVAL=2;WKST=MO
END:VEVENT
BEGIN:VEVENT
DTSTAMP:20260419T184524Z
UID:70384ab0-e4dd-4f6b-bad5-1e4d0687011f
DTSTART;TZID=Europe/Moscow:20230214T124500
DTEND;TZID=Europe/Moscow:20230214T142000
DESCRIPTION:Korobkova E.A. S18-202
LOCATION:K-1017
SUMMARY:
RRULE:FREQ=WEEKLY;UNTIL=20230411T142000;INTERVAL=2;WKST=MO
END:VEVENT
END:VCALENDAR
