BEGIN:VCALENDAR
VERSION:2.0
PRODID:icalendar-ruby
CALSCALE:GREGORIAN
METHOD:PUBLISH
BEGIN:VTIMEZONE
TZID:Europe/Moscow
BEGIN:STANDARD
DTSTART:19700101T000000
TZOFFSETFROM:+0300
TZOFFSETTO:+0300
TZNAME:MSK
END:STANDARD
END:VTIMEZONE
BEGIN:VEVENT
DTSTAMP:20260420T143940Z
UID:b2760368-bcce-4766-9ad6-a09fcd6311c1
DTSTART;TZID=Europe/Moscow:20230213T083000
DTEND;TZID=Europe/Moscow:20230213T110000
DESCRIPTION:Kulevoy T.V. S18-201
LOCATION:B-314b
SUMMARY:Management Systems at Particle Accelerators
RRULE:FREQ=WEEKLY;UNTIL=20230403T110000;WKST=MO
END:VEVENT
END:VCALENDAR
