BEGIN:VCALENDAR
VERSION:2.0
PRODID:icalendar-ruby
CALSCALE:GREGORIAN
METHOD:PUBLISH
BEGIN:VTIMEZONE
TZID:Europe/Moscow
BEGIN:STANDARD
DTSTART:19700101T000000
TZOFFSETFROM:+0300
TZOFFSETTO:+0300
TZNAME:MSK
END:STANDARD
END:VTIMEZONE
BEGIN:VEVENT
DTSTAMP:20260420T012125Z
UID:4c5fd4cb-68a7-47f2-aa22-b3de923e47e7
DTSTART;TZID=Europe/Moscow:20230211T124500
DTEND;TZID=Europe/Moscow:20230211T142000
DESCRIPTION:Mukherdzhi S. S19-702
LOCATION:dep.75
SUMMARY:Academic and Research Work
RRULE:FREQ=WEEKLY;UNTIL=20230520T142000;INTERVAL=2;WKST=MO
END:VEVENT
BEGIN:VEVENT
DTSTAMP:20260420T012125Z
UID:f820fc0d-18eb-431d-959e-84d54743acb8
DTSTART;TZID=Europe/Moscow:20230211T143000
DTEND;TZID=Europe/Moscow:20230211T160500
DESCRIPTION:Mukherdzhi S. S19-702
LOCATION:dep.75
SUMMARY:Academic and Research Work
RRULE:FREQ=WEEKLY;UNTIL=20230520T160500;WKST=MO
END:VEVENT
BEGIN:VEVENT
DTSTAMP:20260420T012125Z
UID:b9905a7e-999a-48db-8b29-67aab17a4467
DTSTART;TZID=Europe/Moscow:20230207T161500
DTEND;TZID=Europe/Moscow:20230207T184000
DESCRIPTION:Mukherdzhi S. S18-702
LOCATION:dep.75
SUMMARY:Practical Training (Research Work)
RRULE:FREQ=WEEKLY;UNTIL=20230516T184000;WKST=MO
EXDATE:20230509T161500
END:VEVENT
END:VCALENDAR
