BEGIN:VCALENDAR
VERSION:2.0
PRODID:icalendar-ruby
CALSCALE:GREGORIAN
METHOD:PUBLISH
BEGIN:VTIMEZONE
TZID:Europe/Moscow
BEGIN:STANDARD
DTSTART:19700101T000000
TZOFFSETFROM:+0300
TZOFFSETTO:+0300
TZNAME:MSK
END:STANDARD
END:VTIMEZONE
BEGIN:VEVENT
DTSTAMP:20260419T170438Z
UID:d83a70f8-a226-4afc-aa83-ce70bb0b7661
DTSTART;TZID=Europe/Moscow:20230210T143000
DTEND;TZID=Europe/Moscow:20230210T160500
DESCRIPTION:Popov V.D. S19-402
LOCATION:D-405
SUMMARY:Design of Integrated Circuits
RRULE:FREQ=WEEKLY;UNTIL=20230519T160500;INTERVAL=2;WKST=MO
EXDATE:20230224T143000
END:VEVENT
BEGIN:VEVENT
DTSTAMP:20260419T170438Z
UID:07b17a5d-4e43-487d-bb1d-9e1299ca294d
DTSTART;TZID=Europe/Moscow:20230217T143000
DTEND;TZID=Europe/Moscow:20230217T160500
DESCRIPTION:Popov V.D. S19-402
LOCATION:D-405
SUMMARY:Design of Integrated Circuits
RRULE:FREQ=WEEKLY;UNTIL=20230512T160500;INTERVAL=2;WKST=MO
END:VEVENT
END:VCALENDAR
