BEGIN:VCALENDAR
VERSION:2.0
PRODID:icalendar-ruby
CALSCALE:GREGORIAN
METHOD:PUBLISH
BEGIN:VTIMEZONE
TZID:Europe/Moscow
BEGIN:STANDARD
DTSTART:19700101T000000
TZOFFSETFROM:+0300
TZOFFSETTO:+0300
TZNAME:MSK
END:STANDARD
END:VTIMEZONE
BEGIN:VEVENT
DTSTAMP:20260419T221114Z
UID:eeecf4bc-4683-4db6-b36d-ad4be6396567
DTSTART;TZID=Europe/Moscow:20230213T101500
DTEND;TZID=Europe/Moscow:20230213T115000
DESCRIPTION:Butuzov V.A. S19-402
LOCATION:D-405
SUMMARY:Automated Design Systems in Microelectronics
RRULE:FREQ=WEEKLY;UNTIL=20230522T115000;INTERVAL=2;WKST=MO
EXDATE:20230508T101500
END:VEVENT
BEGIN:VEVENT
DTSTAMP:20260419T221114Z
UID:774ac97c-0211-46da-a16a-e7f95adf0766
DTSTART;TZID=Europe/Moscow:20230207T115500
DTEND;TZID=Europe/Moscow:20230207T133000
DESCRIPTION:Butuzov V.A. S19-402
LOCATION:D-405
SUMMARY:Automated Design Systems in Microelectronics
RRULE:FREQ=WEEKLY;UNTIL=20230516T133000;WKST=MO
EXDATE:20230509T115500
END:VEVENT
BEGIN:VEVENT
DTSTAMP:20260419T221114Z
UID:1fbdb9cc-24c3-41c8-ab02-36c7013cae3f
DTSTART;TZID=Europe/Moscow:20230213T115500
DTEND;TZID=Europe/Moscow:20230213T133000
DESCRIPTION:Butuzov V.A. S19-402
LOCATION:D-408
SUMMARY:Automated Design Systems in Microelectronics
RRULE:FREQ=WEEKLY;UNTIL=20230522T133000;INTERVAL=2;WKST=MO
EXDATE:20230508T115500
END:VEVENT
END:VCALENDAR
