BEGIN:VCALENDAR
VERSION:2.0
PRODID:icalendar-ruby
CALSCALE:GREGORIAN
METHOD:PUBLISH
BEGIN:VTIMEZONE
TZID:Europe/Moscow
BEGIN:STANDARD
DTSTART:19700101T000000
TZOFFSETFROM:+0300
TZOFFSETTO:+0300
TZNAME:MSK
END:STANDARD
END:VTIMEZONE
BEGIN:VEVENT
DTSTAMP:20260419T221354Z
UID:f5bc56ce-ab11-4c08-a863-31c1f26ac840
DTSTART;TZID=Europe/Moscow:20230207T161500
DTEND;TZID=Europe/Moscow:20230207T175000
DESCRIPTION:Tyurin E.M. B19-602\, B19-604
LOCATION:K-202
SUMMARY:Principles of Nuclear Engineering
RRULE:FREQ=WEEKLY;UNTIL=20230418T175000;WKST=MO
END:VEVENT
BEGIN:VEVENT
DTSTAMP:20260419T221354Z
UID:ecdce1f0-bac6-4e8c-bb83-c09c1f91602c
DTSTART;TZID=Europe/Moscow:20230207T175500
DTEND;TZID=Europe/Moscow:20230207T193000
DESCRIPTION:Tyurin E.M. B19-602\, B19-604
LOCATION:D-103
SUMMARY:Principles of Nuclear Engineering
RRULE:FREQ=WEEKLY;UNTIL=20230418T193000;WKST=MO
END:VEVENT
END:VCALENDAR
