BEGIN:VCALENDAR
VERSION:2.0
PRODID:icalendar-ruby
CALSCALE:GREGORIAN
METHOD:PUBLISH
BEGIN:VTIMEZONE
TZID:Europe/Moscow
BEGIN:STANDARD
DTSTART:19700101T000000
TZOFFSETFROM:+0300
TZOFFSETTO:+0300
TZNAME:MSK
END:STANDARD
END:VTIMEZONE
BEGIN:VEVENT
DTSTAMP:20260420T025333Z
UID:96cf1f43-135b-4173-a57c-27b304f4e959
DTSTART;TZID=Europe/Moscow:20230207T083000
DTEND;TZID=Europe/Moscow:20230207T115000
DESCRIPTION:Alyushin V.M. B19-501
LOCATION:V-118
SUMMARY:Parallel Programming
RRULE:FREQ=WEEKLY;UNTIL=20230404T115000;WKST=MO
END:VEVENT
BEGIN:VEVENT
DTSTAMP:20260420T025333Z
UID:59201011-0353-40f6-81fa-8bb5cec0a97c
DTSTART;TZID=Europe/Moscow:20230209T083000
DTEND;TZID=Europe/Moscow:20230209T115000
DESCRIPTION:Alyushin V.M. B19-511
LOCATION:V-115
SUMMARY:Parallel Programming
RRULE:FREQ=WEEKLY;UNTIL=20230406T115000;WKST=MO
EXDATE:20230223T083000
END:VEVENT
END:VCALENDAR
