BEGIN:VCALENDAR
VERSION:2.0
PRODID:icalendar-ruby
CALSCALE:GREGORIAN
METHOD:PUBLISH
BEGIN:VTIMEZONE
TZID:Europe/Moscow
BEGIN:STANDARD
DTSTART:19700101T000000
TZOFFSETFROM:+0300
TZOFFSETTO:+0300
TZNAME:MSK
END:STANDARD
END:VTIMEZONE
BEGIN:VEVENT
DTSTAMP:20260419T120500Z
UID:f9482566-7b54-4e05-a71a-f549baf6b096
DTSTART;TZID=Europe/Moscow:20230213T152000
DTEND;TZID=Europe/Moscow:20230213T175000
DESCRIPTION:Andreev S.G. B19-301
LOCATION:IBHF
SUMMARY:Biophysics
RRULE:FREQ=WEEKLY;UNTIL=20230306T175000;WKST=MO
END:VEVENT
BEGIN:VEVENT
DTSTAMP:20260419T120500Z
UID:3ee94a19-8664-47bb-ba99-8aaf995a66d8
DTSTART;TZID=Europe/Moscow:20230313T152000
DTEND;TZID=Europe/Moscow:20230313T175000
DESCRIPTION:Andreev S.G. B19-301
LOCATION:IBHF
SUMMARY:Biophysics
RRULE:FREQ=WEEKLY;UNTIL=20230501T175000;WKST=MO
EXDATE:20230501T152000
END:VEVENT
END:VCALENDAR
