BEGIN:VCALENDAR
VERSION:2.0
PRODID:icalendar-ruby
CALSCALE:GREGORIAN
METHOD:PUBLISH
BEGIN:VTIMEZONE
TZID:Europe/Moscow
BEGIN:STANDARD
DTSTART:19700101T000000
TZOFFSETFROM:+0300
TZOFFSETTO:+0300
TZNAME:MSK
END:STANDARD
END:VTIMEZONE
BEGIN:VEVENT
DTSTAMP:20260419T120559Z
UID:0480a168-fc2a-4073-ac17-eb705167eede
DTSTART;TZID=Europe/Moscow:20160906T184500
DTEND;TZID=Europe/Moscow:20160906T202000
DESCRIPTION:Medvedeva L.N. B14-973
LOCATION:K-1218
SUMMARY:Accounting and Analysis: Management Accounting
RRULE:FREQ=WEEKLY;UNTIL=20161025T202000;WKST=MO
END:VEVENT
BEGIN:VEVENT
DTSTAMP:20260419T120559Z
UID:3d91d688-5d4c-4393-b16c-c22cf565366c
DTSTART;TZID=Europe/Moscow:20160913T202500
DTEND;TZID=Europe/Moscow:20160913T220000
DESCRIPTION:Medvedeva L.N. B14-973
LOCATION:K-1218
SUMMARY:Accounting and Analysis: Management Accounting
RRULE:FREQ=WEEKLY;UNTIL=20161025T220000;INTERVAL=2;WKST=MO
END:VEVENT
BEGIN:VEVENT
DTSTAMP:20260419T120559Z
UID:aec4e14c-259f-43ea-a094-dc958f7cf582
DTSTART;TZID=Europe/Moscow:20161101T184500
DTEND;TZID=Europe/Moscow:20161101T202000
DESCRIPTION:Medvedeva L.N. B14-973
LOCATION:K-1218
SUMMARY:Accounting and Analysis: Financial Analysis
RRULE:FREQ=WEEKLY;UNTIL=20161220T202000;WKST=MO
END:VEVENT
BEGIN:VEVENT
DTSTAMP:20260419T120559Z
UID:149e242d-4b7a-402c-85c3-19a54a6dabc1
DTSTART;TZID=Europe/Moscow:20161101T202500
DTEND;TZID=Europe/Moscow:20161101T220000
DESCRIPTION:Medvedeva L.N. B14-973
LOCATION:K-1218
SUMMARY:Accounting and Analysis: Financial Analysis
RRULE:FREQ=WEEKLY;UNTIL=20161220T220000;WKST=MO
END:VEVENT
END:VCALENDAR
