BEGIN:VCALENDAR
VERSION:2.0
PRODID:icalendar-ruby
CALSCALE:GREGORIAN
METHOD:PUBLISH
BEGIN:VTIMEZONE
TZID:Europe/Moscow
BEGIN:STANDARD
DTSTART:19700101T000000
TZOFFSETFROM:+0300
TZOFFSETTO:+0300
TZNAME:MSK
END:STANDARD
END:VTIMEZONE
BEGIN:VEVENT
DTSTAMP:20260420T071603Z
UID:519d4fe9-1d65-4b3f-bdf8-5516645455cd
DTSTART;TZID=Europe/Moscow:20230213T110500
DTEND;TZID=Europe/Moscow:20230213T133000
DESCRIPTION:Sobakin V.N. B19-201\, B19-205\, B19-211\, B19-221\, B19-402
LOCATION:K-409
SUMMARY:Theoretical Solid State Physics
RRULE:FREQ=WEEKLY;UNTIL=20230424T133000;WKST=MO
END:VEVENT
END:VCALENDAR
