BEGIN:VCALENDAR
VERSION:2.0
PRODID:icalendar-ruby
CALSCALE:GREGORIAN
METHOD:PUBLISH
BEGIN:VTIMEZONE
TZID:Europe/Moscow
BEGIN:STANDARD
DTSTART:19700101T000000
TZOFFSETFROM:+0300
TZOFFSETTO:+0300
TZNAME:MSK
END:STANDARD
END:VTIMEZONE
BEGIN:VEVENT
DTSTAMP:20260420T071055Z
UID:44ee2939-408f-4470-8f1c-397f52badb37
DTSTART;TZID=Europe/Moscow:20230207T124500
DTEND;TZID=Europe/Moscow:20230207T151500
DESCRIPTION:Nikulin V.V.\, Rubin S.G. B19-102
LOCATION:NLK-453
SUMMARY:Fundamental Interactions
RRULE:FREQ=WEEKLY;UNTIL=20230411T151500;WKST=MO
END:VEVENT
BEGIN:VEVENT
DTSTAMP:20260420T071055Z
UID:4490165e-a3ca-4f13-b3cf-1e080a7a5201
DTSTART;TZID=Europe/Moscow:20230207T152000
DTEND;TZID=Europe/Moscow:20230207T160500
DESCRIPTION:Nikulin V.V.\, Rubin S.G. B19-102
LOCATION:NLK-453
SUMMARY:Fundamental Interactions
RRULE:FREQ=WEEKLY;UNTIL=20230411T160500;WKST=MO
END:VEVENT
END:VCALENDAR
