BEGIN:VCALENDAR
VERSION:2.0
PRODID:icalendar-ruby
CALSCALE:GREGORIAN
METHOD:PUBLISH
BEGIN:VTIMEZONE
TZID:Europe/Moscow
BEGIN:STANDARD
DTSTART:19700101T000000
TZOFFSETFROM:+0300
TZOFFSETTO:+0300
TZNAME:MSK
END:STANDARD
END:VTIMEZONE
BEGIN:VEVENT
DTSTAMP:20260419T221053Z
UID:e4fe0c56-995b-4d1a-bbff-14a641632733
DTSTART;TZID=Europe/Moscow:20230216T101500
DTEND;TZID=Europe/Moscow:20230216T115000
DESCRIPTION:Proshina T.Y. S20-703
LOCATION:K-815
SUMMARY:Psychology of Persuasion
RRULE:FREQ=WEEKLY;UNTIL=20230511T115000;INTERVAL=2;WKST=MO
END:VEVENT
BEGIN:VEVENT
DTSTAMP:20260419T221053Z
UID:d18b9e80-4192-4bd2-bdea-8c3b189e9b88
DTSTART;TZID=Europe/Moscow:20230209T115500
DTEND;TZID=Europe/Moscow:20230209T133000
DESCRIPTION:Proshina T.Y. S20-703
LOCATION:K-815
SUMMARY:Psychology of Persuasion
RRULE:FREQ=WEEKLY;UNTIL=20230518T133000;WKST=MO
EXDATE:20230223T115500
END:VEVENT
END:VCALENDAR
