BEGIN:VCALENDAR
VERSION:2.0
PRODID:icalendar-ruby
CALSCALE:GREGORIAN
METHOD:PUBLISH
BEGIN:VTIMEZONE
TZID:Europe/Moscow
BEGIN:STANDARD
DTSTART:19700101T000000
TZOFFSETFROM:+0300
TZOFFSETTO:+0300
TZNAME:MSK
END:STANDARD
END:VTIMEZONE
BEGIN:VEVENT
DTSTAMP:20260420T025446Z
UID:cb2197e1-63be-424d-933d-f8a7f7448bc0
DTSTART;TZID=Europe/Moscow:20230209T083000
DTEND;TZID=Europe/Moscow:20230209T100500
DESCRIPTION:Strelets A.I.\, Shustova L.I. B20-503
LOCATION:A-218
SUMMARY:Databases (Theoretical and Practical Basis)
RRULE:FREQ=WEEKLY;UNTIL=20230518T100500;WKST=MO
EXDATE:20230223T083000
END:VEVENT
BEGIN:VEVENT
DTSTAMP:20260420T025446Z
UID:0fe32a00-5456-4c24-bfd6-c5e5dc3ec5b5
DTSTART;TZID=Europe/Moscow:20230207T101500
DTEND;TZID=Europe/Moscow:20230207T115000
DESCRIPTION:Strelets A.I. B20-525
LOCATION:A-218
SUMMARY:Databases (Theoretical and Practical Basis)
RRULE:FREQ=WEEKLY;UNTIL=20230516T115000;WKST=MO
EXDATE:20230509T101500
END:VEVENT
BEGIN:VEVENT
DTSTAMP:20260420T025446Z
UID:8bb4072d-70b9-431f-95e0-93c4bcaadf6a
DTSTART;TZID=Europe/Moscow:20230209T101500
DTEND;TZID=Europe/Moscow:20230209T115000
DESCRIPTION:Strelets A.I.\, Shustova L.I. B20-513
LOCATION:A-218
SUMMARY:Databases (Theoretical and Practical Basis)
RRULE:FREQ=WEEKLY;UNTIL=20230518T115000;WKST=MO
EXDATE:20230223T101500
END:VEVENT
BEGIN:VEVENT
DTSTAMP:20260420T025446Z
UID:f8ec187c-a6f1-4a7c-a679-30c35099565a
DTSTART;TZID=Europe/Moscow:20230209T143000
DTEND;TZID=Europe/Moscow:20230209T160500
DESCRIPTION:Strelets A.I. B20-523
LOCATION:A-218
SUMMARY:Databases (Theoretical and Practical Basis)
RRULE:FREQ=WEEKLY;UNTIL=20230518T160500;WKST=MO
EXDATE:20230223T143000
END:VEVENT
END:VCALENDAR
