BEGIN:VCALENDAR
VERSION:2.0
PRODID:icalendar-ruby
CALSCALE:GREGORIAN
METHOD:PUBLISH
BEGIN:VTIMEZONE
TZID:Europe/Moscow
BEGIN:STANDARD
DTSTART:19700101T000000
TZOFFSETFROM:+0300
TZOFFSETTO:+0300
TZNAME:MSK
END:STANDARD
END:VTIMEZONE
BEGIN:VEVENT
DTSTAMP:20260420T143949Z
UID:315d8c03-aafc-4d71-8adb-2a61f7aaa627
DTSTART;TZID=Europe/Moscow:20230210T124500
DTEND;TZID=Europe/Moscow:20230210T142000
DESCRIPTION:Bernt D.D.\, Pisarev A.A. B20-202
LOCATION:33-103
SUMMARY:English Language: Scientific and Technical Translation
RRULE:FREQ=WEEKLY;UNTIL=20230519T142000;WKST=MO
EXDATE:20230224T124500
END:VEVENT
END:VCALENDAR
