BEGIN:VCALENDAR
VERSION:2.0
PRODID:icalendar-ruby
CALSCALE:GREGORIAN
METHOD:PUBLISH
BEGIN:VTIMEZONE
TZID:Europe/Moscow
BEGIN:STANDARD
DTSTART:19700101T000000
TZOFFSETFROM:+0300
TZOFFSETTO:+0300
TZNAME:MSK
END:STANDARD
END:VTIMEZONE
BEGIN:VEVENT
DTSTAMP:20260420T012147Z
UID:5b444b22-4cf3-4c7b-8399-3deebf7d5d8c
DTSTART;TZID=Europe/Moscow:20230211T101500
DTEND;TZID=Europe/Moscow:20230211T115000
DESCRIPTION:Kutukov A.A.\, Mihaylova A.V. B20-105
LOCATION:K-1109
SUMMARY:Mathematical Physics Equations
RRULE:FREQ=WEEKLY;UNTIL=20230520T115000;WKST=MO
END:VEVENT
END:VCALENDAR
