BEGIN:VCALENDAR
VERSION:2.0
PRODID:icalendar-ruby
CALSCALE:GREGORIAN
METHOD:PUBLISH
BEGIN:VTIMEZONE
TZID:Europe/Moscow
BEGIN:STANDARD
DTSTART:19700101T000000
TZOFFSETFROM:+0300
TZOFFSETTO:+0300
TZNAME:MSK
END:STANDARD
END:VTIMEZONE
BEGIN:VEVENT
DTSTAMP:20260420T130757Z
UID:7fa9a481-8c6b-48ec-a606-7f1962485a9f
DTSTART;TZID=Europe/Moscow:20230211T083000
DTEND;TZID=Europe/Moscow:20230211T115000
DESCRIPTION:Mihalchik V.V.\, Borodin V.A.\, Dzhumaev P.S.\, Ivannikov A
 .A.\, Isaenkova M.G.\, Krymskaya O.A.\, Fedotov I.V.\, Tenishev A.V.\,
  Suchkov A.N.\, Sevryukov O.N.\, Polskiy V.I. B20-103
LOCATION:dep.9
SUMMARY:Practical Training (Research Work)
RRULE:FREQ=WEEKLY;UNTIL=20230520T115000;INTERVAL=2;WKST=MO
END:VEVENT
BEGIN:VEVENT
DTSTAMP:20260420T130757Z
UID:cce1885b-c430-40eb-aac2-68ba98111df4
DTSTART;TZID=Europe/Moscow:20230213T101500
DTEND;TZID=Europe/Moscow:20230213T115000
DESCRIPTION:Fedotov I.V. B20-103
LOCATION:B-124/126
SUMMARY:Principles of Vaccuum Technology
RRULE:FREQ=WEEKLY;UNTIL=20230522T115000;WKST=MO
EXDATE:20230501T101500
EXDATE:20230508T101500
END:VEVENT
BEGIN:VEVENT
DTSTAMP:20260420T130757Z
UID:31d12051-63f0-45cd-831d-df405701d0f8
DTSTART;TZID=Europe/Moscow:20230208T101500
DTEND;TZID=Europe/Moscow:20230208T142000
DESCRIPTION:Isaenkova M.G.\, Krymskaya O.A.\, Staltsov M.S.\, Fedotov I
 .V. M22-198
LOCATION:dep.9
SUMMARY:Practical Training (Research Work)
RRULE:FREQ=WEEKLY;UNTIL=20230517T142000;WKST=MO
EXDATE:20230308T101500
END:VEVENT
BEGIN:VEVENT
DTSTAMP:20260420T130757Z
UID:d8e28975-6d5b-405f-be05-fd452bac2db5
DTSTART;TZID=Europe/Moscow:20230217T161500
DTEND;TZID=Europe/Moscow:20230217T175000
DESCRIPTION:Fedotov I.V. B20-103
LOCATION:B-124/126
SUMMARY:Principles of Vaccuum Technology
RRULE:FREQ=WEEKLY;UNTIL=20230512T175000;INTERVAL=2;WKST=MO
END:VEVENT
END:VCALENDAR
