BEGIN:VCALENDAR
VERSION:2.0
PRODID:icalendar-ruby
CALSCALE:GREGORIAN
METHOD:PUBLISH
BEGIN:VTIMEZONE
TZID:Europe/Moscow
BEGIN:STANDARD
DTSTART:19700101T000000
TZOFFSETFROM:+0300
TZOFFSETTO:+0300
TZNAME:MSK
END:STANDARD
END:VTIMEZONE
BEGIN:VEVENT
DTSTAMP:20260419T165355Z
UID:a3802fef-decf-47bb-afad-90c0bd9505e9
DTSTART;TZID=Europe/Moscow:20230213T143000
DTEND;TZID=Europe/Moscow:20230213T160500
DESCRIPTION:Bogdanov R.I.\, Elmanov G.N. B20-103
LOCATION:B-108
SUMMARY:Principles of physical chemistry and computational thermodynamics
RRULE:FREQ=WEEKLY;UNTIL=20230522T160500;WKST=MO
EXDATE:20230501T143000
EXDATE:20230508T143000
END:VEVENT
BEGIN:VEVENT
DTSTAMP:20260419T165355Z
UID:b20a494f-84f7-4a9e-ada7-88eb995cb5de
DTSTART;TZID=Europe/Moscow:20230220T161500
DTEND;TZID=Europe/Moscow:20230220T175000
DESCRIPTION:Bogdanov R.I.\, Elmanov G.N. B20-103
LOCATION:B-108
SUMMARY:Principles of physical chemistry and computational thermodynamics
RRULE:FREQ=WEEKLY;UNTIL=20230515T175000;INTERVAL=2;WKST=MO
EXDATE:20230501T161500
END:VEVENT
END:VCALENDAR
