BEGIN:VCALENDAR
VERSION:2.0
PRODID:icalendar-ruby
CALSCALE:GREGORIAN
METHOD:PUBLISH
BEGIN:VTIMEZONE
TZID:Europe/Moscow
BEGIN:STANDARD
DTSTART:19700101T000000
TZOFFSETFROM:+0300
TZOFFSETTO:+0300
TZNAME:MSK
END:STANDARD
END:VTIMEZONE
BEGIN:VEVENT
DTSTAMP:20260419T120452Z
UID:a9d7ddfd-4a00-49f6-a50c-5d5a6731e9aa
DTSTART;TZID=Europe/Moscow:20230313T202500
DTEND;TZID=Europe/Moscow:20230313T220000
DESCRIPTION:Simahin E.A. M21-V02
LOCATION:T-211
SUMMARY:Certification Basis for the Technical Instruments of Information Pr
 ocessing
RRULE:FREQ=WEEKLY;UNTIL=20230522T220000;WKST=MO
EXDATE:20230501T202500
EXDATE:20230508T202500
END:VEVENT
END:VCALENDAR
