BEGIN:VCALENDAR
VERSION:2.0
PRODID:icalendar-ruby
CALSCALE:GREGORIAN
METHOD:PUBLISH
BEGIN:VTIMEZONE
TZID:Europe/Moscow
BEGIN:STANDARD
DTSTART:19700101T000000
TZOFFSETFROM:+0300
TZOFFSETTO:+0300
TZNAME:MSK
END:STANDARD
END:VTIMEZONE
BEGIN:VEVENT
DTSTAMP:20260419T221411Z
UID:852e5576-0992-47fe-8482-e3542301b4cc
DTSTART;TZID=Europe/Moscow:20230211T083000
DTEND;TZID=Europe/Moscow:20230211T100500
DESCRIPTION:Dmitrenko A.V. M21-165\, M21-166
LOCATION:E-406
SUMMARY:Two-Phase Streams
RRULE:FREQ=WEEKLY;UNTIL=20230225T100500;WKST=MO
END:VEVENT
BEGIN:VEVENT
DTSTAMP:20260419T221411Z
UID:e28e920e-5441-4308-8fa1-453e56ee4c74
DTSTART;TZID=Europe/Moscow:20230211T101500
DTEND;TZID=Europe/Moscow:20230211T133000
DESCRIPTION:Dmitrenko A.V. M21-165\, M21-166
LOCATION:E-406
SUMMARY:Two-Phase Streams
RRULE:FREQ=WEEKLY;UNTIL=20230311T133000;WKST=MO
END:VEVENT
BEGIN:VEVENT
DTSTAMP:20260419T221411Z
UID:821e75f9-4da9-4e00-998e-5f1cf911ab93
DTSTART;TZID=Europe/Moscow:20230211T143000
DTEND;TZID=Europe/Moscow:20230211T160500
DESCRIPTION:Dmitrenko A.V. S19-103
LOCATION:E-406
SUMMARY:NPP turbomachines
RRULE:FREQ=WEEKLY;UNTIL=20230520T160500;WKST=MO
END:VEVENT
BEGIN:VEVENT
DTSTAMP:20260419T221411Z
UID:9520bbfd-d88d-4cd7-9cf9-0317b3f0c752
DTSTART;TZID=Europe/Moscow:20230211T161500
DTEND;TZID=Europe/Moscow:20230211T170000
DESCRIPTION:Dmitrenko A.V. S19-103
LOCATION:E-406
SUMMARY:NPP turbomachines
RRULE:FREQ=WEEKLY;UNTIL=20230520T170000;WKST=MO
END:VEVENT
END:VCALENDAR
