BEGIN:VCALENDAR
VERSION:2.0
PRODID:icalendar-ruby
CALSCALE:GREGORIAN
METHOD:PUBLISH
BEGIN:VTIMEZONE
TZID:Europe/Moscow
BEGIN:STANDARD
DTSTART:19700101T000000
TZOFFSETFROM:+0300
TZOFFSETTO:+0300
TZNAME:MSK
END:STANDARD
END:VTIMEZONE
BEGIN:VEVENT
DTSTAMP:20260419T120457Z
UID:42cd89c5-08ba-4e47-8655-1c0bf8d98958
DTSTART;TZID=Europe/Moscow:20230211T083000
DTEND;TZID=Europe/Moscow:20230211T110000
DESCRIPTION:Gryzlov M.A. M21-514\, M21-524\, M21-534\, M21-564
LOCATION:K-409
SUMMARY:Theory of Systems and Systems Analysis
RRULE:FREQ=WEEKLY;UNTIL=20230304T110000;WKST=MO
END:VEVENT
BEGIN:VEVENT
DTSTAMP:20260419T120457Z
UID:f8c860f7-ae0a-4dfb-b0f6-41f255adcb7d
DTSTART;TZID=Europe/Moscow:20230211T124500
DTEND;TZID=Europe/Moscow:20230211T142000
DESCRIPTION:Gryzlov M.A. B21-703\, B21-763
LOCATION:K-805
SUMMARY:Theory of Systems and Systems Analysis
RRULE:FREQ=WEEKLY;UNTIL=20230520T142000;WKST=MO
END:VEVENT
BEGIN:VEVENT
DTSTAMP:20260419T120457Z
UID:92c5105b-ec7c-4b33-9076-b3a14251de9b
DTSTART;TZID=Europe/Moscow:20230211T143000
DTEND;TZID=Europe/Moscow:20230211T160500
DESCRIPTION:Gryzlov M.A. B21-703\, B21-763
LOCATION:K-805
SUMMARY:Theory of Systems and Systems Analysis
RRULE:FREQ=WEEKLY;UNTIL=20230520T160500;INTERVAL=2;WKST=MO
END:VEVENT
BEGIN:VEVENT
DTSTAMP:20260419T120457Z
UID:6862e057-18da-4a55-8489-49dc5d356852
DTSTART;TZID=Europe/Moscow:20230218T143000
DTEND;TZID=Europe/Moscow:20230218T160500
DESCRIPTION:Gryzlov M.A. B21-703\, B21-763
LOCATION:K-805
SUMMARY:Theory of Systems and Systems Analysis
RRULE:FREQ=WEEKLY;UNTIL=20230513T160500;INTERVAL=2;WKST=MO
END:VEVENT
BEGIN:VEVENT
DTSTAMP:20260419T120457Z
UID:713527e2-a379-4641-966a-c735d9099e37
DTSTART;TZID=Europe/Moscow:20230211T161500
DTEND;TZID=Europe/Moscow:20230211T193000
DESCRIPTION:Gryzlov M.A. M21-713
LOCATION:K-805
SUMMARY:Theory of Systems and Systems Analysis
RRULE:FREQ=WEEKLY;UNTIL=20230304T193000;WKST=MO
END:VEVENT
BEGIN:VEVENT
DTSTAMP:20260419T120457Z
UID:8ffc11f3-f70e-45ed-b1b6-c06afdb99ec2
DTSTART;TZID=Europe/Moscow:20230311T083000
DTEND;TZID=Europe/Moscow:20230311T100500
DESCRIPTION:Gryzlov M.A. M21-514\, M21-524
LOCATION:K-409
SUMMARY:Theory of Systems and Systems Analysis
RRULE:FREQ=WEEKLY;UNTIL=20230415T100500;WKST=MO
END:VEVENT
BEGIN:VEVENT
DTSTAMP:20260419T120457Z
UID:dfa42587-23f2-4650-a12e-1af70b9496fa
DTSTART;TZID=Europe/Moscow:20230311T101500
DTEND;TZID=Europe/Moscow:20230311T115000
DESCRIPTION:Gryzlov M.A. M21-534\, M21-564
LOCATION:K-815
SUMMARY:Theory of Systems and Systems Analysis
RRULE:FREQ=WEEKLY;UNTIL=20230415T115000;WKST=MO
END:VEVENT
BEGIN:VEVENT
DTSTAMP:20260419T120457Z
UID:bdf2bc73-db43-4434-ae30-8e254201cc14
DTSTART;TZID=Europe/Moscow:20230311T161500
DTEND;TZID=Europe/Moscow:20230311T193000
DESCRIPTION:Gryzlov M.A. M21-713
LOCATION:K-805
SUMMARY:Theory of Systems and Systems Analysis
RRULE:FREQ=WEEKLY;UNTIL=20230415T193000;WKST=MO
END:VEVENT
END:VCALENDAR
