BEGIN:VCALENDAR
VERSION:2.0
PRODID:icalendar-ruby
CALSCALE:GREGORIAN
METHOD:PUBLISH
BEGIN:VTIMEZONE
TZID:Europe/Moscow
BEGIN:STANDARD
DTSTART:19700101T000000
TZOFFSETFROM:+0300
TZOFFSETTO:+0300
TZNAME:MSK
END:STANDARD
END:VTIMEZONE
BEGIN:VEVENT
DTSTAMP:20260420T231022Z
UID:5069cb6b-62a7-4ec0-9361-86d767bd3873
DTSTART;TZID=Europe/Moscow:20230211T083000
DTEND;TZID=Europe/Moscow:20230211T100500
DESCRIPTION:Polyakov M.V. B21-502
LOCATION:B-218
SUMMARY:Special chapters in discrete mathematics
RRULE:FREQ=WEEKLY;UNTIL=20230520T100500;WKST=MO
END:VEVENT
BEGIN:VEVENT
DTSTAMP:20260420T231022Z
UID:980c37c9-ddd1-4383-afc2-b9561e905d25
DTSTART;TZID=Europe/Moscow:20230211T101500
DTEND;TZID=Europe/Moscow:20230211T115000
DESCRIPTION:Polyakov M.V. B21-502
LOCATION:B-218
SUMMARY:Special chapters in discrete mathematics
RRULE:FREQ=WEEKLY;UNTIL=20230520T115000;WKST=MO
END:VEVENT
BEGIN:VEVENT
DTSTAMP:20260420T231022Z
UID:af78206c-b3fa-47c1-975a-8acb05789bbb
DTSTART;TZID=Europe/Moscow:20230211T124500
DTEND;TZID=Europe/Moscow:20230211T151500
DESCRIPTION:Polyakov M.V. M21-517
LOCATION:B-221
SUMMARY:
RRULE:FREQ=WEEKLY;UNTIL=20230415T151500;WKST=MO
END:VEVENT
BEGIN:VEVENT
DTSTAMP:20260420T231022Z
UID:d7ea650f-9f42-4fa8-be88-3cf0fd834516
DTSTART;TZID=Europe/Moscow:20230211T152000
DTEND;TZID=Europe/Moscow:20230211T175000
DESCRIPTION:Polyakov M.V. M21-517
LOCATION:B-221
SUMMARY:
RRULE:FREQ=WEEKLY;UNTIL=20230415T175000;WKST=MO
END:VEVENT
END:VCALENDAR
