BEGIN:VCALENDAR
VERSION:2.0
PRODID:icalendar-ruby
CALSCALE:GREGORIAN
METHOD:PUBLISH
BEGIN:VTIMEZONE
TZID:Europe/Moscow
BEGIN:STANDARD
DTSTART:19700101T000000
TZOFFSETFROM:+0300
TZOFFSETTO:+0300
TZNAME:MSK
END:STANDARD
END:VTIMEZONE
BEGIN:VEVENT
DTSTAMP:20260420T043330Z
UID:8c8ef71e-aaf9-4fba-b37f-abf5ec0aef5a
DTSTART;TZID=Europe/Moscow:20230211T083000
DTEND;TZID=Europe/Moscow:20230211T160500
DESCRIPTION:Sergeeva D.Y.\, Tischenko A.A.\, Bogdanov Y.I.\, Savchenko 
 A.A. B19-402
LOCATION:dep.67
SUMMARY:
RRULE:FREQ=WEEKLY;UNTIL=20230422T160500;WKST=MO
END:VEVENT
BEGIN:VEVENT
DTSTAMP:20260420T043330Z
UID:e57f7f39-a7b8-4d27-b5bc-553f5ae95eb2
DTSTART;TZID=Europe/Moscow:20230208T092000
DTEND;TZID=Europe/Moscow:20230208T115000
DESCRIPTION:Gorkunov M.V.\, Savchenko A.A.\, Taranenko A.V.\, Sergeeva 
 D.Y.\, Saunina A.Y.\, Lvov D.V.\, Tischenko A.A. B20-402\, B20-462
LOCATION:dep.67
SUMMARY:
RRULE:FREQ=WEEKLY;UNTIL=20230426T115000;WKST=MO
EXDATE:20230308T092000
END:VEVENT
BEGIN:VEVENT
DTSTAMP:20260420T043330Z
UID:389b44b3-e782-4f53-9214-36a86b830449
DTSTART;TZID=Europe/Moscow:20230209T101500
DTEND;TZID=Europe/Moscow:20230209T133000
DESCRIPTION:Sergeeva D.Y.\, Tischenko A.A.\, Garaev D.I. B19-402
LOCATION:33-304
SUMMARY:
RRULE:FREQ=WEEKLY;UNTIL=20230223T133000;WKST=MO
EXDATE:20230223T101500
END:VEVENT
BEGIN:VEVENT
DTSTAMP:20260420T043330Z
UID:349b6bdc-0714-4885-8203-2ca81d43c941
DTSTART;TZID=Europe/Moscow:20230209T161500
DTEND;TZID=Europe/Moscow:20230209T175000
DESCRIPTION:Sergeeva D.Y.\, Dabagov S.B. B21-405
LOCATION:NLK-464
SUMMARY:Introduction to the Profession
RRULE:FREQ=WEEKLY;UNTIL=20230518T175000;INTERVAL=2;WKST=MO
EXDATE:20230223T161500
END:VEVENT
BEGIN:VEVENT
DTSTAMP:20260420T043330Z
UID:7962410b-dcd3-4899-b970-9a36e8ff0002
DTSTART;TZID=Europe/Moscow:20230216T161500
DTEND;TZID=Europe/Moscow:20230216T175000
DESCRIPTION:Saunina A.Y.\, Sergeeva D.Y. B21-405
LOCATION:NLK-464
SUMMARY:Introduction to the Profession
RRULE:FREQ=WEEKLY;UNTIL=20230511T175000;INTERVAL=2;WKST=MO
END:VEVENT
BEGIN:VEVENT
DTSTAMP:20260420T043331Z
UID:acb64a7a-a5cc-4012-9ba7-9cf1b331bc05
DTSTART;TZID=Europe/Moscow:20230302T092000
DTEND;TZID=Europe/Moscow:20230302T133000
DESCRIPTION:Garaev D.I.\, Sergeeva D.Y.\, Savchenko A.A.\, Tischenko A.
 A. B19-402
LOCATION:33-304
SUMMARY:
RRULE:FREQ=WEEKLY;UNTIL=20230413T133000;WKST=MO
END:VEVENT
END:VCALENDAR
