BEGIN:VCALENDAR
VERSION:2.0
PRODID:icalendar-ruby
CALSCALE:GREGORIAN
METHOD:PUBLISH
BEGIN:VTIMEZONE
TZID:Europe/Moscow
BEGIN:STANDARD
DTSTART:19700101T000000
TZOFFSETFROM:+0300
TZOFFSETTO:+0300
TZNAME:MSK
END:STANDARD
END:VTIMEZONE
BEGIN:VEVENT
DTSTAMP:20260420T025233Z
UID:aa5f4179-b943-4f40-8104-e2596cd12094
DTSTART;TZID=Europe/Moscow:20230210T083000
DTEND;TZID=Europe/Moscow:20230210T100500
DESCRIPTION:Kostin A.B. B21-201\, B21-202\, B21-203\, B21-204\, B21-205\, 
 B21-206\, B21-211\, B21-212\, B21-215\, B21-221\, B21-261\, B21-265
LOCATION:403
SUMMARY:Differential and Integral Equations
RRULE:FREQ=WEEKLY;UNTIL=20230519T100500;WKST=MO
EXDATE:20230224T083000
END:VEVENT
BEGIN:VEVENT
DTSTAMP:20260420T025233Z
UID:00a7bb14-8a62-4d5b-8048-14afaaa6c0e5
DTSTART;TZID=Europe/Moscow:20230209T083000
DTEND;TZID=Europe/Moscow:20230209T100500
DESCRIPTION:Kostin A.B. B21-203\, B21-206
LOCATION:K-415
SUMMARY:Differential and Integral Equations
RRULE:FREQ=WEEKLY;UNTIL=20230518T100500;INTERVAL=2;WKST=MO
EXDATE:20230223T083000
END:VEVENT
BEGIN:VEVENT
DTSTAMP:20260420T025233Z
UID:2596b5ab-a69e-48f2-ba4a-c569b23b593d
DTSTART;TZID=Europe/Moscow:20230216T083000
DTEND;TZID=Europe/Moscow:20230216T100500
DESCRIPTION:Kostin A.B. B21-202\, B21-204
LOCATION:K-415
SUMMARY:Differential and Integral Equations
RRULE:FREQ=WEEKLY;UNTIL=20230511T100500;INTERVAL=2;WKST=MO
END:VEVENT
BEGIN:VEVENT
DTSTAMP:20260420T025233Z
UID:ad913505-5c9b-487c-b8c0-4bdf8e27eb1b
DTSTART;TZID=Europe/Moscow:20230210T101500
DTEND;TZID=Europe/Moscow:20230210T115000
DESCRIPTION:Kostin A.B. B21-203\, B21-206
LOCATION:A-205
SUMMARY:Differential and Integral Equations
RRULE:FREQ=WEEKLY;UNTIL=20230519T115000;WKST=MO
EXDATE:20230224T101500
END:VEVENT
BEGIN:VEVENT
DTSTAMP:20260420T025233Z
UID:717b6644-80e0-48c3-83bc-98c9c646f468
DTSTART;TZID=Europe/Moscow:20230209T101500
DTEND;TZID=Europe/Moscow:20230209T115000
DESCRIPTION:Kostin A.B. B21-205
LOCATION:K-411
SUMMARY:Differential and Integral Equations
RRULE:FREQ=WEEKLY;UNTIL=20230518T115000;WKST=MO
EXDATE:20230223T101500
END:VEVENT
BEGIN:VEVENT
DTSTAMP:20260420T025233Z
UID:0002664f-ebac-4380-aeaf-310c0691ce6e
DTSTART;TZID=Europe/Moscow:20230209T124500
DTEND;TZID=Europe/Moscow:20230209T142000
DESCRIPTION:Kostin A.B. B21-215
LOCATION:K-411
SUMMARY:Differential and Integral Equations
RRULE:FREQ=WEEKLY;UNTIL=20230518T142000;WKST=MO
EXDATE:20230223T124500
END:VEVENT
BEGIN:VEVENT
DTSTAMP:20260420T025233Z
UID:5d325cd2-7b5f-49d6-9eb0-e5d61e61b09d
DTSTART;TZID=Europe/Moscow:20230210T124500
DTEND;TZID=Europe/Moscow:20230210T142000
DESCRIPTION:Kostin A.B. B21-205
LOCATION:K-411
SUMMARY:Differential and Integral Equations
RRULE:FREQ=WEEKLY;UNTIL=20230519T142000;INTERVAL=2;WKST=MO
EXDATE:20230224T124500
END:VEVENT
BEGIN:VEVENT
DTSTAMP:20260420T025233Z
UID:46821fdb-ca38-411f-97fb-763780bfa71c
DTSTART;TZID=Europe/Moscow:20230217T124500
DTEND;TZID=Europe/Moscow:20230217T142000
DESCRIPTION:Kostin A.B. B21-215
LOCATION:K-411
SUMMARY:Differential and Integral Equations
RRULE:FREQ=WEEKLY;UNTIL=20230512T142000;INTERVAL=2;WKST=MO
END:VEVENT
BEGIN:VEVENT
DTSTAMP:20260420T025233Z
UID:8655ee6c-94db-45ad-a564-6c280c3ee81f
DTSTART;TZID=Europe/Moscow:20230210T143000
DTEND;TZID=Europe/Moscow:20230210T160500
DESCRIPTION:Kostin A.B. B21-202\, B21-204
LOCATION:K-409
SUMMARY:Differential and Integral Equations
RRULE:FREQ=WEEKLY;UNTIL=20230519T160500;WKST=MO
EXDATE:20230224T143000
END:VEVENT
END:VCALENDAR
