BEGIN:VCALENDAR
VERSION:2.0
PRODID:icalendar-ruby
CALSCALE:GREGORIAN
METHOD:PUBLISH
BEGIN:VTIMEZONE
TZID:Europe/Moscow
BEGIN:STANDARD
DTSTART:19700101T000000
TZOFFSETFROM:+0300
TZOFFSETTO:+0300
TZNAME:MSK
END:STANDARD
END:VTIMEZONE
BEGIN:VEVENT
DTSTAMP:20260420T125931Z
UID:cf632488-9abb-4297-b36a-a4a9e582e5db
DTSTART;TZID=Europe/Moscow:20230209T115500
DTEND;TZID=Europe/Moscow:20230209T133000
DESCRIPTION:Trifonenkov A.V.\, Samanchuk V.N.\, Ramazanov R.N.\, Pivtora
 tskaya S.V.\, Ktitrov S.V.\, Kozin R.G.\, Ovsyannikova N.V. M22-501
LOCATION:dep.22
SUMMARY:Practical Training (Research Work)
RRULE:FREQ=WEEKLY;UNTIL=20230518T133000;WKST=MO
EXDATE:20230223T115500
END:VEVENT
BEGIN:VEVENT
DTSTAMP:20260420T125931Z
UID:6083372c-b439-4fcd-8505-42681b039de0
DTSTART;TZID=Europe/Moscow:20230215T175500
DTEND;TZID=Europe/Moscow:20230215T193000
DESCRIPTION:Pivtoratskaya S.V.\, Trofimov A.G. M22-501
LOCATION:K-312
SUMMARY:
RRULE:FREQ=WEEKLY;UNTIL=20230510T193000;INTERVAL=2;WKST=MO
END:VEVENT
BEGIN:VEVENT
DTSTAMP:20260420T125931Z
UID:84b1ed6c-a196-49fe-90b3-3ea63fb76054
DTSTART;TZID=Europe/Moscow:20230208T193500
DTEND;TZID=Europe/Moscow:20230208T211000
DESCRIPTION:Pivtoratskaya S.V.\, Trofimov A.G. M22-501
LOCATION:K-208
SUMMARY:
RRULE:FREQ=WEEKLY;UNTIL=20230517T211000;INTERVAL=2;WKST=MO
EXDATE:20230308T193500
END:VEVENT
END:VCALENDAR
