BEGIN:VCALENDAR
VERSION:2.0
PRODID:icalendar-ruby
CALSCALE:GREGORIAN
METHOD:PUBLISH
BEGIN:VTIMEZONE
TZID:Europe/Moscow
BEGIN:STANDARD
DTSTART:19700101T000000
TZOFFSETFROM:+0300
TZOFFSETTO:+0300
TZNAME:MSK
END:STANDARD
END:VTIMEZONE
BEGIN:VEVENT
DTSTAMP:20260420T043209Z
UID:d43f1d4a-3e12-443a-b8e4-8c0500cc7e87
DTSTART;TZID=Europe/Moscow:20230210T083000
DTEND;TZID=Europe/Moscow:20230210T100500
DESCRIPTION:Trifonenkov V.P. B21-301\, B21-311
LOCATION:A-207
SUMMARY:Differential and Integral Equations
RRULE:FREQ=WEEKLY;UNTIL=20230519T100500;INTERVAL=2;WKST=MO
EXDATE:20230224T083000
END:VEVENT
BEGIN:VEVENT
DTSTAMP:20260420T043209Z
UID:0ebca255-0e50-4008-8462-502d4072be58
DTSTART;TZID=Europe/Moscow:20230217T083000
DTEND;TZID=Europe/Moscow:20230217T100500
DESCRIPTION:Trifonenkov V.P. B21-403
LOCATION:A-207
SUMMARY:Differential and Integral Equations
RRULE:FREQ=WEEKLY;UNTIL=20230512T100500;INTERVAL=2;WKST=MO
END:VEVENT
BEGIN:VEVENT
DTSTAMP:20260420T043209Z
UID:1e6ead1f-8fe9-455d-a9bc-cec4fd58b0d2
DTSTART;TZID=Europe/Moscow:20230213T101500
DTEND;TZID=Europe/Moscow:20230213T115000
DESCRIPTION:Trifonenkov V.P. B21-403
LOCATION:T-102
SUMMARY:Differential and Integral Equations
RRULE:FREQ=WEEKLY;UNTIL=20230522T115000;WKST=MO
EXDATE:20230501T101500
EXDATE:20230508T101500
END:VEVENT
BEGIN:VEVENT
DTSTAMP:20260420T043209Z
UID:d3c6cd45-0702-4d28-9eda-1fdf93a0a2bd
DTSTART;TZID=Europe/Moscow:20230210T101500
DTEND;TZID=Europe/Moscow:20230210T115000
DESCRIPTION:Trifonenkov V.P. B21-301\, B21-302\, B21-311\, B21-362\, B21-4
 01\, B21-403\, B21-405\, B21-413\, B21-465\, S21-401\, S21-402
LOCATION:403
SUMMARY:Differential and Integral Equations
RRULE:FREQ=WEEKLY;UNTIL=20230519T115000;WKST=MO
EXDATE:20230224T101500
END:VEVENT
BEGIN:VEVENT
DTSTAMP:20260420T043209Z
UID:6e9b0f08-82a7-44e1-847f-92ffa0541cb4
DTSTART;TZID=Europe/Moscow:20230213T124500
DTEND;TZID=Europe/Moscow:20230213T142000
DESCRIPTION:Trifonenkov V.P. B21-301\, B21-311
LOCATION:NLK-453
SUMMARY:Differential and Integral Equations
RRULE:FREQ=WEEKLY;UNTIL=20230522T142000;WKST=MO
EXDATE:20230501T124500
EXDATE:20230508T124500
END:VEVENT
BEGIN:VEVENT
DTSTAMP:20260420T043209Z
UID:8e30edba-ec18-4160-a695-6193d1682821
DTSTART;TZID=Europe/Moscow:20230210T124500
DTEND;TZID=Europe/Moscow:20230210T142000
DESCRIPTION:Trifonenkov V.P. B21-302
LOCATION:T-108
SUMMARY:Differential and Integral Equations
RRULE:FREQ=WEEKLY;UNTIL=20230519T142000;WKST=MO
EXDATE:20230224T124500
END:VEVENT
BEGIN:VEVENT
DTSTAMP:20260420T043209Z
UID:fc115d60-8be3-44b4-90dc-7331154e4466
DTSTART;TZID=Europe/Moscow:20230211T124500
DTEND;TZID=Europe/Moscow:20230211T142000
DESCRIPTION:Trifonenkov V.P. B22-513
LOCATION:B-214
SUMMARY:Linear Algebra.
RRULE:FREQ=WEEKLY;UNTIL=20230520T142000;WKST=MO
END:VEVENT
BEGIN:VEVENT
DTSTAMP:20260420T043209Z
UID:ed8d5426-33e0-438e-a2ba-5e7c11e918c6
DTSTART;TZID=Europe/Moscow:20230211T143000
DTEND;TZID=Europe/Moscow:20230211T160500
DESCRIPTION:Trifonenkov V.P. B22-503
LOCATION:B-213
SUMMARY:Linear Algebra.
RRULE:FREQ=WEEKLY;UNTIL=20230520T160500;WKST=MO
END:VEVENT
BEGIN:VEVENT
DTSTAMP:20260420T043209Z
UID:7c8ec741-562b-4b32-98a0-fb9693e32f24
DTSTART;TZID=Europe/Moscow:20230213T143000
DTEND;TZID=Europe/Moscow:20230213T160500
DESCRIPTION:Trifonenkov V.P. B21-302
LOCATION:NLK-453
SUMMARY:Differential and Integral Equations
RRULE:FREQ=WEEKLY;UNTIL=20230522T160500;INTERVAL=2;WKST=MO
EXDATE:20230508T143000
END:VEVENT
END:VCALENDAR
