BEGIN:VCALENDAR
VERSION:2.0
PRODID:icalendar-ruby
CALSCALE:GREGORIAN
METHOD:PUBLISH
BEGIN:VTIMEZONE
TZID:Europe/Moscow
BEGIN:STANDARD
DTSTART:19700101T000000
TZOFFSETFROM:+0300
TZOFFSETTO:+0300
TZNAME:MSK
END:STANDARD
END:VTIMEZONE
BEGIN:VEVENT
DTSTAMP:20260420T043329Z
UID:1e7ca795-04c2-48fc-9e10-70a9cff54676
DTSTART;TZID=Europe/Moscow:20160902T083000
DTEND;TZID=Europe/Moscow:20160902T100500
DESCRIPTION:Maslov A.K. B14-202\, B14-401
LOCATION:K-211
SUMMARY:Nuclear Physics
RRULE:FREQ=WEEKLY;UNTIL=20161216T100500;WKST=MO
EXDATE:20161104T083000
END:VEVENT
BEGIN:VEVENT
DTSTAMP:20260420T043329Z
UID:0edc30a8-f3f5-476f-a89c-dc6306504029
DTSTART;TZID=Europe/Moscow:20160903T083000
DTEND;TZID=Europe/Moscow:20160903T115000
DESCRIPTION:Maslov A.K.\, Zaharov O.V. B14-301
LOCATION:A-403
SUMMARY:General Physics Workshop. Subgroup 1
RRULE:FREQ=WEEKLY;UNTIL=20161210T115000;INTERVAL=2;WKST=MO
END:VEVENT
BEGIN:VEVENT
DTSTAMP:20260420T043329Z
UID:dbeedc1c-c6f3-4d82-9871-a94eee81bede
DTSTART;TZID=Europe/Moscow:20160902T101500
DTEND;TZID=Europe/Moscow:20160902T115000
DESCRIPTION:Maslov A.K. B14-301
LOCATION:K-211
SUMMARY:Nuclear Physics
RRULE:FREQ=WEEKLY;UNTIL=20161216T115000;WKST=MO
EXDATE:20161104T101500
END:VEVENT
BEGIN:VEVENT
DTSTAMP:20260420T043329Z
UID:02ac5ba9-70f4-42d1-b9c2-5fec38657260
DTSTART;TZID=Europe/Moscow:20160902T124500
DTEND;TZID=Europe/Moscow:20160902T160500
DESCRIPTION:Maslov A.K. S15-601
LOCATION:A-408
SUMMARY:General Physics (Electricity and Magnetism). Subgroup 2
RRULE:FREQ=WEEKLY;UNTIL=20161209T160500;INTERVAL=2;WKST=MO
END:VEVENT
END:VCALENDAR
