BEGIN:VCALENDAR
VERSION:2.0
PRODID:icalendar-ruby
CALSCALE:GREGORIAN
METHOD:PUBLISH
BEGIN:VTIMEZONE
TZID:Europe/Moscow
BEGIN:STANDARD
DTSTART:19700101T000000
TZOFFSETFROM:+0300
TZOFFSETTO:+0300
TZNAME:MSK
END:STANDARD
END:VTIMEZONE
BEGIN:VEVENT
DTSTAMP:20260419T221140Z
UID:cf0a01fe-70b5-47f2-a5ad-cf504a110d54
DTSTART;TZID=Europe/Moscow:20230207T083000
DTEND;TZID=Europe/Moscow:20230207T100500
DESCRIPTION:Kan K. B22-205\, B22-215
LOCATION:dep.31
SUMMARY:Practicum Project 
RRULE:FREQ=WEEKLY;UNTIL=20230425T100500;WKST=MO
END:VEVENT
BEGIN:VEVENT
DTSTAMP:20260419T221140Z
UID:6d44c690-67f2-493a-a1e7-aeb3419d3a1f
DTSTART;TZID=Europe/Moscow:20230207T124500
DTEND;TZID=Europe/Moscow:20230207T142000
DESCRIPTION:Kan K.\, Ryabov P.N. B22-222
LOCATION:NLK-4.102
SUMMARY:
RRULE:FREQ=WEEKLY;UNTIL=20230516T142000;WKST=MO
EXDATE:20230509T124500
END:VEVENT
BEGIN:VEVENT
DTSTAMP:20260419T221140Z
UID:e0a38eb0-a329-472b-818b-5b117cfd4b40
DTSTART;TZID=Europe/Moscow:20230210T124500
DTEND;TZID=Europe/Moscow:20230210T142000
DESCRIPTION:Styopin E.V.\, Ryabov P.N.\, Misyurin S.Y.\, Mazur E.A.\, L
 avrova S.F.\, Kutukov A.A.\, Shilnikov K.E.\, Kryanev A.V.\, Kochanov
  M.B.\, Korotkov E.V.\, Klimanov S.G.\, Egorov A.D.\, Kan K.\, Ktitro
 v S.V.\, Chmyhov M.A. B21-215
LOCATION:dep.31
SUMMARY:Practicum Project 
RRULE:FREQ=WEEKLY;UNTIL=20230407T142000;INTERVAL=2;WKST=MO
EXDATE:20230224T124500
END:VEVENT
BEGIN:VEVENT
DTSTAMP:20260419T221140Z
UID:32ee0ae0-c501-454e-a2a7-b0842bc05c0a
DTSTART;TZID=Europe/Moscow:20230208T143000
DTEND;TZID=Europe/Moscow:20230208T160500
DESCRIPTION:Kan K. B20-604\, B20-611
LOCATION:V-114
SUMMARY:Numerical Methods
RRULE:FREQ=WEEKLY;UNTIL=20230517T160500;WKST=MO
EXDATE:20230308T143000
END:VEVENT
BEGIN:VEVENT
DTSTAMP:20260419T221140Z
UID:eedd1d72-61e9-448d-b1cb-7f88492644c0
DTSTART;TZID=Europe/Moscow:20230210T143000
DTEND;TZID=Europe/Moscow:20230210T160500
DESCRIPTION:Shilnikov K.E.\, Chmyhov M.A.\, Styopin E.V.\, Ryabov P.N.\
 , Misyurin S.Y.\, Mazur E.A.\, Lavrova S.F.\, Kutukov A.A.\, Ktitrov 
 S.V.\, Kryanev A.V.\, Kochanov M.B.\, Korotkov E.V.\, Klimanov S.G.\, 
 Egorov A.D.\, Kan K. B21-205
LOCATION:dep.31
SUMMARY:Practicum Project 
RRULE:FREQ=WEEKLY;UNTIL=20230407T160500;INTERVAL=2;WKST=MO
EXDATE:20230224T143000
END:VEVENT
END:VCALENDAR
