BEGIN:VCALENDAR
VERSION:2.0
PRODID:icalendar-ruby
CALSCALE:GREGORIAN
METHOD:PUBLISH
BEGIN:VTIMEZONE
TZID:Europe/Moscow
BEGIN:STANDARD
DTSTART:19700101T000000
TZOFFSETFROM:+0300
TZOFFSETTO:+0300
TZNAME:MSK
END:STANDARD
END:VTIMEZONE
BEGIN:VEVENT
DTSTAMP:20260419T121443Z
UID:680fd831-b5e6-4bc5-a4ce-062964d043cf
DTSTART;TZID=Europe/Moscow:20230213T083000
DTEND;TZID=Europe/Moscow:20230213T110000
DESCRIPTION:Nagovitsyna O.A. B22-206
LOCATION:B-204
SUMMARY:
RRULE:FREQ=WEEKLY;UNTIL=20230522T110000;WKST=MO
EXDATE:20230501T083000
EXDATE:20230508T083000
END:VEVENT
BEGIN:VEVENT
DTSTAMP:20260419T121443Z
UID:cea0b9fd-401c-43b2-a1c2-9ab7980c2550
DTSTART;TZID=Europe/Moscow:20230217T083000
DTEND;TZID=Europe/Moscow:20230217T115000
DESCRIPTION:Nagovitsyna O.A. B22-601
LOCATION:B-204
SUMMARY:Chemistry. Subgroup 2
RRULE:FREQ=WEEKLY;UNTIL=20230512T115000;INTERVAL=2;WKST=MO
END:VEVENT
BEGIN:VEVENT
DTSTAMP:20260419T121443Z
UID:85873dac-e31f-41bb-8ece-0ecdbe4d57b5
DTSTART;TZID=Europe/Moscow:20230213T115500
DTEND;TZID=Europe/Moscow:20230213T142000
DESCRIPTION:Nagovitsyna O.A. B22-204
LOCATION:B-202
SUMMARY:Subgroup 1
RRULE:FREQ=WEEKLY;UNTIL=20230522T142000;WKST=MO
EXDATE:20230501T115500
EXDATE:20230508T115500
END:VEVENT
BEGIN:VEVENT
DTSTAMP:20260419T121443Z
UID:149a7447-0b8c-4b8c-bfc3-9295ddc73347
DTSTART;TZID=Europe/Moscow:20230210T124500
DTEND;TZID=Europe/Moscow:20230210T160500
DESCRIPTION:Nagovitsyna O.A. S22-602
LOCATION:B-202
SUMMARY:Chemistry. Subgroup 2
RRULE:FREQ=WEEKLY;UNTIL=20230519T160500;INTERVAL=2;WKST=MO
EXDATE:20230224T124500
END:VEVENT
BEGIN:VEVENT
DTSTAMP:20260419T121443Z
UID:0b5795f1-7f7b-43f9-b607-e7dff2cc5cb9
DTSTART;TZID=Europe/Moscow:20230217T124500
DTEND;TZID=Europe/Moscow:20230217T160500
DESCRIPTION:Nagovitsyna O.A. S22-103
LOCATION:B-201
SUMMARY:Chemistry. Subgroup 1
RRULE:FREQ=WEEKLY;UNTIL=20230512T160500;INTERVAL=2;WKST=MO
END:VEVENT
BEGIN:VEVENT
DTSTAMP:20260419T121443Z
UID:a21885e4-aaa4-4321-847f-689859edaf93
DTSTART;TZID=Europe/Moscow:20230220T143000
DTEND;TZID=Europe/Moscow:20230220T160500
DESCRIPTION:Nagovitsyna O.A. B22-103
LOCATION:B-202
SUMMARY:Organic Chemistry. Subgroup 2
RRULE:FREQ=WEEKLY;UNTIL=20230515T160500;INTERVAL=2;WKST=MO
EXDATE:20230501T143000
END:VEVENT
BEGIN:VEVENT
DTSTAMP:20260419T121443Z
UID:5c7bae78-286e-45af-87ef-f27245261d9d
DTSTART;TZID=Europe/Moscow:20230215T083000
DTEND;TZID=Europe/Moscow:20230215T100500
DESCRIPTION:Nagovitsyna O.A. S22-393
LOCATION:64-404
SUMMARY:Chemistry. Subgroup 1
RRULE:FREQ=WEEKLY;UNTIL=20230503T100500;WKST=MO
EXDATE:20230308T083000
END:VEVENT
BEGIN:VEVENT
DTSTAMP:20260419T121443Z
UID:5432672c-111c-47ad-9489-4f4d2d4cf032
DTSTART;TZID=Europe/Moscow:20230215T101500
DTEND;TZID=Europe/Moscow:20230215T115000
DESCRIPTION:Nagovitsyna O.A. S22-392
LOCATION:64-404
SUMMARY:Chemistry. Subgroup 1
RRULE:FREQ=WEEKLY;UNTIL=20230503T115000;WKST=MO
EXDATE:20230308T101500
END:VEVENT
BEGIN:VEVENT
DTSTAMP:20260419T121443Z
UID:b60b4397-415e-435f-b79b-1a3ce9d2eded
DTSTART;TZID=Europe/Moscow:20230215T124500
DTEND;TZID=Europe/Moscow:20230215T142000
DESCRIPTION:Nagovitsyna O.A. S22-391
LOCATION:64-404
SUMMARY:Chemistry. Subgroup 1
RRULE:FREQ=WEEKLY;UNTIL=20230503T142000;WKST=MO
EXDATE:20230308T124500
END:VEVENT
BEGIN:VEVENT
DTSTAMP:20260419T121443Z
UID:98f77794-3812-4548-b79f-0965002913ba
DTSTART;TZID=Europe/Moscow:20230214T124500
DTEND;TZID=Europe/Moscow:20230214T142000
DESCRIPTION:Nagovitsyna O.A. S22-391\, S22-392\, S22-393
LOCATION:64-408
SUMMARY:Chemistry
RRULE:FREQ=WEEKLY;UNTIL=20230502T142000;WKST=MO
END:VEVENT
BEGIN:VEVENT
DTSTAMP:20260419T121443Z
UID:cfbd82ca-12d3-4546-9526-757ba029386a
DTSTART;TZID=Europe/Moscow:20230510T083000
DTEND;TZID=Europe/Moscow:20230510T100500
DESCRIPTION:Nagovitsyna O.A. S22-393
SUMMARY:Chemistry. Subgroup 1
END:VEVENT
BEGIN:VEVENT
DTSTAMP:20260419T121444Z
UID:0e01ca2f-4a82-4740-8678-ef876e842951
DTSTART;TZID=Europe/Moscow:20230510T101500
DTEND;TZID=Europe/Moscow:20230510T115000
DESCRIPTION:Nagovitsyna O.A. S22-392
SUMMARY:Chemistry. Subgroup 1
END:VEVENT
BEGIN:VEVENT
DTSTAMP:20260419T121444Z
UID:e302a64f-8d7f-47d2-9905-0c39bbb32561
DTSTART;TZID=Europe/Moscow:20230510T124500
DTEND;TZID=Europe/Moscow:20230510T142000
DESCRIPTION:Nagovitsyna O.A. S22-391
SUMMARY:Chemistry. Subgroup 1
END:VEVENT
BEGIN:VEVENT
DTSTAMP:20260419T121444Z
UID:a4fa6604-b70a-4097-81a3-d3a37300dfad
DTSTART;TZID=Europe/Moscow:20230509T124500
DTEND;TZID=Europe/Moscow:20230509T142000
DESCRIPTION:Nagovitsyna O.A. S22-391\, S22-392\, S22-393
SUMMARY:Chemistry
RRULE:FREQ=WEEKLY;UNTIL=20230516T142000;WKST=MO
EXDATE:20230509T124500
END:VEVENT
BEGIN:VEVENT
DTSTAMP:20260419T121444Z
UID:5bd2d6ab-4d28-4f84-a930-e67fc245c93f
DTSTART;TZID=Europe/Moscow:20230517T083000
DTEND;TZID=Europe/Moscow:20230517T100500
DESCRIPTION:Nagovitsyna O.A. S22-393
LOCATION:64-404
SUMMARY:Chemistry. Subgroup 1
RRULE:FREQ=WEEKLY;UNTIL=20230524T100500;WKST=MO
END:VEVENT
BEGIN:VEVENT
DTSTAMP:20260419T121444Z
UID:a3adc487-7859-49fc-89d6-f7cd82b369f7
DTSTART;TZID=Europe/Moscow:20230517T101500
DTEND;TZID=Europe/Moscow:20230517T115000
DESCRIPTION:Nagovitsyna O.A. S22-392
LOCATION:64-404
SUMMARY:Chemistry. Subgroup 1
RRULE:FREQ=WEEKLY;UNTIL=20230524T115000;WKST=MO
END:VEVENT
BEGIN:VEVENT
DTSTAMP:20260419T121444Z
UID:3dc70fb8-7bd4-4f72-ba0a-9250ea898e70
DTSTART;TZID=Europe/Moscow:20230517T124500
DTEND;TZID=Europe/Moscow:20230517T142000
DESCRIPTION:Nagovitsyna O.A. S22-391
LOCATION:64-404
SUMMARY:Chemistry. Subgroup 1
RRULE:FREQ=WEEKLY;UNTIL=20230524T142000;WKST=MO
END:VEVENT
BEGIN:VEVENT
DTSTAMP:20260419T121444Z
UID:0d74713f-7294-4353-91d9-3850c5240951
DTSTART;TZID=Europe/Moscow:20230523T124500
DTEND;TZID=Europe/Moscow:20230523T142000
DESCRIPTION:Nagovitsyna O.A. S22-391\, S22-392\, S22-393
LOCATION:64-408
SUMMARY:Chemistry
END:VEVENT
END:VCALENDAR
