BEGIN:VCALENDAR
VERSION:2.0
PRODID:icalendar-ruby
CALSCALE:GREGORIAN
METHOD:PUBLISH
BEGIN:VTIMEZONE
TZID:Europe/Moscow
BEGIN:STANDARD
DTSTART:19700101T000000
TZOFFSETFROM:+0300
TZOFFSETTO:+0300
TZNAME:MSK
END:STANDARD
END:VTIMEZONE
BEGIN:VEVENT
DTSTAMP:20260419T120450Z
UID:d3fe3bf4-4086-44b9-b7f9-2af623e4c48c
DTSTART;TZID=Europe/Moscow:20230213T101500
DTEND;TZID=Europe/Moscow:20230213T115000
DESCRIPTION:Sergievskiy M.V. B22-544
LOCATION:K-315
SUMMARY:Discrete Mathematics (Combinatorics)
RRULE:FREQ=WEEKLY;UNTIL=20230403T115000;WKST=MO
END:VEVENT
BEGIN:VEVENT
DTSTAMP:20260419T120450Z
UID:16854d29-c0ac-4e2b-abaa-d3fe66aa59d8
DTSTART;TZID=Europe/Moscow:20230213T124500
DTEND;TZID=Europe/Moscow:20230213T142000
DESCRIPTION:Sergievskiy M.V. B22-554
LOCATION:K-923
SUMMARY:Discrete Mathematics (Combinatorics)
RRULE:FREQ=WEEKLY;UNTIL=20230403T142000;WKST=MO
END:VEVENT
BEGIN:VEVENT
DTSTAMP:20260419T120450Z
UID:e0bc866f-c7a6-4106-a727-62aead13b88b
DTSTART;TZID=Europe/Moscow:20230207T143000
DTEND;TZID=Europe/Moscow:20230207T160500
DESCRIPTION:Sergievskiy M.V. B22-534
LOCATION:B-210
SUMMARY:Discrete Mathematics (Combinatorics)
RRULE:FREQ=WEEKLY;UNTIL=20230328T160500;WKST=MO
END:VEVENT
BEGIN:VEVENT
DTSTAMP:20260419T120450Z
UID:fd774fa8-cea7-4cda-bf03-1787f974484d
DTSTART;TZID=Europe/Moscow:20230215T143000
DTEND;TZID=Europe/Moscow:20230215T160500
DESCRIPTION:Sergievskiy M.V. B22-525
LOCATION:K-305
SUMMARY:Discrete Mathematics (Combinatorics)
RRULE:FREQ=WEEKLY;UNTIL=20230329T160500;INTERVAL=2;WKST=MO
END:VEVENT
BEGIN:VEVENT
DTSTAMP:20260419T120450Z
UID:85a747ab-6b5e-49d7-a62e-514f2cfe4e0d
DTSTART;TZID=Europe/Moscow:20230209T152000
DTEND;TZID=Europe/Moscow:20230209T170000
DESCRIPTION:Sergievskiy M.V. M22-SH04
LOCATION:64-505b
SUMMARY:Information Systems Architecture
RRULE:FREQ=WEEKLY;UNTIL=20230518T170000;INTERVAL=2;WKST=MO
EXDATE:20230223T152000
END:VEVENT
BEGIN:VEVENT
DTSTAMP:20260419T120450Z
UID:dae4e32e-668c-4650-a5b3-1f553d32c4fe
DTSTART;TZID=Europe/Moscow:20230216T152000
DTEND;TZID=Europe/Moscow:20230216T170000
DESCRIPTION:Sergievskiy M.V. M22-SH04
LOCATION:64-505b
SUMMARY:Information Systems Architecture
RRULE:FREQ=WEEKLY;UNTIL=20230511T170000;INTERVAL=2;WKST=MO
END:VEVENT
BEGIN:VEVENT
DTSTAMP:20260419T120450Z
UID:c5b890d9-65f7-41b7-9281-d016409e75af
DTSTART;TZID=Europe/Moscow:20230207T161500
DTEND;TZID=Europe/Moscow:20230207T175000
DESCRIPTION:Sergievskiy M.V. B22-525
LOCATION:B-210
SUMMARY:Discrete Mathematics (Combinatorics)
RRULE:FREQ=WEEKLY;UNTIL=20230321T175000;INTERVAL=2;WKST=MO
END:VEVENT
BEGIN:VEVENT
DTSTAMP:20260419T120450Z
UID:e7061e7b-5e8f-4a22-b1c9-0c3c53238402
DTSTART;TZID=Europe/Moscow:20230208T170500
DTEND;TZID=Europe/Moscow:20230208T193000
DESCRIPTION:Sergievskiy M.V. M22-713
LOCATION:K-822
SUMMARY:Software design technologies
RRULE:FREQ=WEEKLY;UNTIL=20230308T193000;WKST=MO
EXDATE:20230308T170500
END:VEVENT
BEGIN:VEVENT
DTSTAMP:20260419T120450Z
UID:36bebe01-12aa-4417-80e9-012c74166764
DTSTART;TZID=Europe/Moscow:20230315T170500
DTEND;TZID=Europe/Moscow:20230315T193000
DESCRIPTION:Sergievskiy M.V. M22-713
LOCATION:K-822
SUMMARY:Software design technologies
RRULE:FREQ=WEEKLY;UNTIL=20230510T193000;WKST=MO
END:VEVENT
BEGIN:VEVENT
DTSTAMP:20260419T120450Z
UID:afa2ab18-21e1-417b-9695-c38a182558bb
DTSTART;TZID=Europe/Moscow:20230410T101500
DTEND;TZID=Europe/Moscow:20230410T115000
DESCRIPTION:Sergievskiy M.V. B22-544
LOCATION:K-315
SUMMARY:Discrete Mathematics (Graph Theory)
RRULE:FREQ=WEEKLY;UNTIL=20230522T115000;WKST=MO
EXDATE:20230501T101500
EXDATE:20230508T101500
END:VEVENT
BEGIN:VEVENT
DTSTAMP:20260419T120450Z
UID:32d34368-6a60-4a30-96be-da6a0037b9b8
DTSTART;TZID=Europe/Moscow:20230410T124500
DTEND;TZID=Europe/Moscow:20230410T142000
DESCRIPTION:Sergievskiy M.V. B22-554
LOCATION:K-923
SUMMARY:Discrete Mathematics (Graph Theory)
RRULE:FREQ=WEEKLY;UNTIL=20230522T142000;WKST=MO
EXDATE:20230501T124500
EXDATE:20230508T124500
END:VEVENT
BEGIN:VEVENT
DTSTAMP:20260419T120450Z
UID:3c0c360b-0f49-4adc-8c03-53c3a2228b1f
DTSTART;TZID=Europe/Moscow:20230404T143000
DTEND;TZID=Europe/Moscow:20230404T160500
DESCRIPTION:Sergievskiy M.V. B22-534
LOCATION:B-210
SUMMARY:Discrete Mathematics (Graph Theory)
RRULE:FREQ=WEEKLY;UNTIL=20230516T160500;WKST=MO
EXDATE:20230509T143000
END:VEVENT
BEGIN:VEVENT
DTSTAMP:20260419T120450Z
UID:0bbb4c93-0e0c-43ae-8af3-25214151af6c
DTSTART;TZID=Europe/Moscow:20230412T143000
DTEND;TZID=Europe/Moscow:20230412T160500
DESCRIPTION:Sergievskiy M.V. B22-525
LOCATION:K-305
SUMMARY:Discrete Mathematics (Graph Theory)
RRULE:FREQ=WEEKLY;UNTIL=20230510T160500;INTERVAL=2;WKST=MO
END:VEVENT
BEGIN:VEVENT
DTSTAMP:20260419T120450Z
UID:d172adbd-6af8-49eb-8196-a0d657418770
DTSTART;TZID=Europe/Moscow:20230404T161500
DTEND;TZID=Europe/Moscow:20230404T175000
DESCRIPTION:Sergievskiy M.V. B22-525
LOCATION:B-210
SUMMARY:Discrete Mathematics (Graph Theory)
RRULE:FREQ=WEEKLY;UNTIL=20230516T175000;INTERVAL=2;WKST=MO
END:VEVENT
END:VCALENDAR
