BEGIN:VCALENDAR
VERSION:2.0
PRODID:icalendar-ruby
CALSCALE:GREGORIAN
METHOD:PUBLISH
BEGIN:VTIMEZONE
TZID:Europe/Moscow
BEGIN:STANDARD
DTSTART:19700101T000000
TZOFFSETFROM:+0300
TZOFFSETTO:+0300
TZNAME:MSK
END:STANDARD
END:VTIMEZONE
BEGIN:VEVENT
DTSTAMP:20260419T121551Z
UID:57208776-12f1-4793-b0b8-6bd184dc8501
DTSTART;TZID=Europe/Moscow:20230211T083000
DTEND;TZID=Europe/Moscow:20230211T110000
DESCRIPTION:Kuksa V.A. B20-701
LOCATION:K-807
SUMMARY:
RRULE:FREQ=WEEKLY;UNTIL=20230520T110000;WKST=MO
END:VEVENT
BEGIN:VEVENT
DTSTAMP:20260419T121551Z
UID:b2724808-ab47-4f1f-892a-0fc8103b3273
DTSTART;TZID=Europe/Moscow:20230211T110500
DTEND;TZID=Europe/Moscow:20230211T115000
DESCRIPTION:Kuksa V.A. B20-701
LOCATION:K-807
SUMMARY:
RRULE:FREQ=WEEKLY;UNTIL=20230520T115000;WKST=MO
END:VEVENT
BEGIN:VEVENT
DTSTAMP:20260419T121551Z
UID:24235dab-c5ff-45af-b8e2-a2b89826088a
DTSTART;TZID=Europe/Moscow:20230211T124500
DTEND;TZID=Europe/Moscow:20230211T160500
DESCRIPTION:Kuksa V.A. S19-701
LOCATION:K-823
SUMMARY:Lab Workshop: Accounting
RRULE:FREQ=WEEKLY;UNTIL=20230408T160500;WKST=MO
END:VEVENT
BEGIN:VEVENT
DTSTAMP:20260419T121552Z
UID:26a7609a-4341-4c74-a892-3d32c1474285
DTSTART;TZID=Europe/Moscow:20230207T143000
DTEND;TZID=Europe/Moscow:20230207T160500
DESCRIPTION:Kuksa V.A. S20-701
LOCATION:K-815
SUMMARY:Information technologies in accounting. Subgroup 1
RRULE:FREQ=WEEKLY;UNTIL=20230516T160500;WKST=MO
EXDATE:20230509T143000
END:VEVENT
BEGIN:VEVENT
DTSTAMP:20260419T121552Z
UID:5d4125ec-a95e-4c0d-87ab-1faf486d987c
DTSTART;TZID=Europe/Moscow:20230215T143000
DTEND;TZID=Europe/Moscow:20230215T175000
DESCRIPTION:Kuksa V.A. S19-701
LOCATION:dep.56
SUMMARY:Lab Workshop: Accounting
END:VEVENT
BEGIN:VEVENT
DTSTAMP:20260419T121552Z
UID:5d22bdd9-df06-4eac-aec9-f2cc1d3d31f6
DTSTART;TZID=Europe/Moscow:20230207T161500
DTEND;TZID=Europe/Moscow:20230207T170000
DESCRIPTION:Kuksa V.A. S20-701
LOCATION:K-815
SUMMARY:Information technologies in accounting. Subgroup 1
RRULE:FREQ=WEEKLY;UNTIL=20230516T170000;WKST=MO
EXDATE:20230509T161500
END:VEVENT
BEGIN:VEVENT
DTSTAMP:20260419T121552Z
UID:d3f210c1-e928-4e7f-8232-76eff1aca832
DTSTART;TZID=Europe/Moscow:20230207T175500
DTEND;TZID=Europe/Moscow:20230207T184000
DESCRIPTION:Kuksa V.A. S19-701
LOCATION:dep.56
SUMMARY:Lab Workshop: Accounting
RRULE:FREQ=WEEKLY;UNTIL=20230509T184000;WKST=MO
EXDATE:20230509T175500
END:VEVENT
BEGIN:VEVENT
DTSTAMP:20260419T121552Z
UID:5fb13074-cf6b-4f3d-b3b0-72accc50a354
DTSTART;TZID=Europe/Moscow:20230207T184500
DTEND;TZID=Europe/Moscow:20230207T220000
DESCRIPTION:Kuksa V.A. M22-711
LOCATION:K-822
SUMMARY:Modern Computer Technologies in Economics
END:VEVENT
BEGIN:VEVENT
DTSTAMP:20260419T121552Z
UID:41ca1927-ddd1-4d07-8d73-1047197b81b5
DTSTART;TZID=Europe/Moscow:20230214T184500
DTEND;TZID=Europe/Moscow:20230214T220000
DESCRIPTION:Kuksa V.A. M22-711
LOCATION:K-822
SUMMARY:Modern Computer Technologies in Economics
RRULE:FREQ=WEEKLY;UNTIL=20230411T220000;WKST=MO
END:VEVENT
BEGIN:VEVENT
DTSTAMP:20260419T121552Z
UID:59b317e5-8d89-434c-a5e6-ecbba94ae531
DTSTART;TZID=Europe/Moscow:20230403T083000
DTEND;TZID=Europe/Moscow:20230403T115000
DESCRIPTION:Kuksa V.A. B19-701
LOCATION:K-805
SUMMARY:Professional Software Packages
RRULE:FREQ=WEEKLY;UNTIL=20230522T115000;WKST=MO
EXDATE:20230501T083000
EXDATE:20230508T083000
END:VEVENT
BEGIN:VEVENT
DTSTAMP:20260419T121552Z
UID:55158fb6-3288-469f-a089-df4184578b83
DTSTART;TZID=Europe/Moscow:20230403T124500
DTEND;TZID=Europe/Moscow:20230403T160500
DESCRIPTION:Kuksa V.A. B19-701
LOCATION:K-714a
SUMMARY:Lab Workshop: Accounting
RRULE:FREQ=WEEKLY;UNTIL=20230522T160500;WKST=MO
EXDATE:20230501T124500
EXDATE:20230508T124500
END:VEVENT
END:VCALENDAR
