BEGIN:VCALENDAR
VERSION:2.0
PRODID:icalendar-ruby
CALSCALE:GREGORIAN
METHOD:PUBLISH
BEGIN:VTIMEZONE
TZID:Europe/Moscow
BEGIN:STANDARD
DTSTART:19700101T000000
TZOFFSETFROM:+0300
TZOFFSETTO:+0300
TZNAME:MSK
END:STANDARD
END:VTIMEZONE
BEGIN:VEVENT
DTSTAMP:20260420T161929Z
UID:b9d26424-c8f6-4e7b-8d1d-6bdfd171099f
DTSTART;TZID=Europe/Moscow:20230210T110500
DTEND;TZID=Europe/Moscow:20230210T124000
DESCRIPTION:Averin A.S.\, Kondratenko L.A.\, Budnik P.V.\, Terehov V.M.
 \, Mironova L.I. M22-684
SUMMARY:Practical Training (Research Work)
RRULE:FREQ=WEEKLY;UNTIL=20230519T124000;WKST=MO
EXDATE:20230224T110500
END:VEVENT
BEGIN:VEVENT
DTSTAMP:20260420T161929Z
UID:9ea84f3a-0182-4439-8eea-36d31f8bfabf
DTSTART;TZID=Europe/Moscow:20230210T124500
DTEND;TZID=Europe/Moscow:20230210T142000
DESCRIPTION:Averin A.S. M22-684
SUMMARY:Technology Ensured Precision in Mechanical Engineering
RRULE:FREQ=WEEKLY;UNTIL=20230317T142000;WKST=MO
EXDATE:20230224T124500
END:VEVENT
BEGIN:VEVENT
DTSTAMP:20260420T161929Z
UID:504f7919-9bd8-4063-9ff5-b22260c8a15a
DTSTART;TZID=Europe/Moscow:20230210T152000
DTEND;TZID=Europe/Moscow:20230210T170000
DESCRIPTION:Averin A.S. M22-684
SUMMARY:Nuclear Power Plants
RRULE:FREQ=WEEKLY;UNTIL=20230224T170000;WKST=MO
EXDATE:20230224T152000
END:VEVENT
BEGIN:VEVENT
DTSTAMP:20260420T161929Z
UID:310465ba-6714-4ecf-a4be-ff4351ec3e00
DTSTART;TZID=Europe/Moscow:20230210T170500
DTEND;TZID=Europe/Moscow:20230210T184000
DESCRIPTION:Averin A.S. M22-684
SUMMARY:Nuclear Power Plants
RRULE:FREQ=WEEKLY;UNTIL=20230519T184000;WKST=MO
EXDATE:20230224T170500
END:VEVENT
BEGIN:VEVENT
DTSTAMP:20260420T161929Z
UID:c8af3166-5a3d-4ca8-8681-c7f7164429d7
DTSTART;TZID=Europe/Moscow:20230303T152000
DTEND;TZID=Europe/Moscow:20230303T170000
DESCRIPTION:Averin A.S. M22-684
SUMMARY:Technology Ensured Precision in Mechanical Engineering
RRULE:FREQ=WEEKLY;UNTIL=20230519T170000;WKST=MO
END:VEVENT
BEGIN:VEVENT
DTSTAMP:20260420T161929Z
UID:5b83a1f3-198a-46c7-8131-b42c1110efdd
DTSTART;TZID=Europe/Moscow:20230324T124500
DTEND;TZID=Europe/Moscow:20230324T142000
DESCRIPTION:Averin A.S. M22-684
SUMMARY:Technology Ensured Precision in Mechanical Engineering
RRULE:FREQ=WEEKLY;UNTIL=20230519T142000;WKST=MO
END:VEVENT
END:VCALENDAR
