BEGIN:VCALENDAR
VERSION:2.0
PRODID:icalendar-ruby
CALSCALE:GREGORIAN
METHOD:PUBLISH
BEGIN:VTIMEZONE
TZID:Europe/Moscow
BEGIN:STANDARD
DTSTART:19700101T000000
TZOFFSETFROM:+0300
TZOFFSETTO:+0300
TZNAME:MSK
END:STANDARD
END:VTIMEZONE
BEGIN:VEVENT
DTSTAMP:20260419T120504Z
UID:b020cf05-0f77-49bd-b121-2a8586e57a50
DTSTART;TZID=Europe/Moscow:20230209T143000
DTEND;TZID=Europe/Moscow:20230209T160500
DESCRIPTION:Gorbatov V.S.\, Gavdan G.P.\, Durakovskiy A.P. M22-506
LOCATION:dep.43
SUMMARY:Practical Training (Research Work)
RRULE:FREQ=WEEKLY;UNTIL=20230518T160500;WKST=MO
EXDATE:20230223T143000
END:VEVENT
BEGIN:VEVENT
DTSTAMP:20260419T120504Z
UID:a7698c38-e08d-44a9-a9f6-835abbc8df33
DTSTART;TZID=Europe/Moscow:20230209T170500
DTEND;TZID=Europe/Moscow:20230209T184000
DESCRIPTION:Dyatlov D.A.\, Gorbatov V.S. M22-506
LOCATION:T-209
SUMMARY:Information Security Management
RRULE:FREQ=WEEKLY;UNTIL=20230518T184000;WKST=MO
EXDATE:20230223T170500
END:VEVENT
BEGIN:VEVENT
DTSTAMP:20260419T120504Z
UID:b1ebd437-d45c-4ba4-ae11-d8cd0c9f9558
DTSTART;TZID=Europe/Moscow:20230209T184500
DTEND;TZID=Europe/Moscow:20230209T202000
DESCRIPTION:Gorbatov V.S. M22-506\, M22-V02
LOCATION:T-107
SUMMARY:Information Security Management
RRULE:FREQ=WEEKLY;UNTIL=20230518T202000;WKST=MO
EXDATE:20230223T184500
END:VEVENT
BEGIN:VEVENT
DTSTAMP:20260419T120504Z
UID:453a29fd-9088-40f8-985e-7ade3421f34d
DTSTART;TZID=Europe/Moscow:20230208T202500
DTEND;TZID=Europe/Moscow:20230208T220000
DESCRIPTION:Gorbatov V.S.\, Gavdan G.P.\, Durakovskiy A.P. M22-V02
LOCATION:dep.43
SUMMARY:Practical Training (Research Work)
RRULE:FREQ=WEEKLY;UNTIL=20230517T220000;WKST=MO
EXDATE:20230308T202500
END:VEVENT
BEGIN:VEVENT
DTSTAMP:20260419T120504Z
UID:03a17fb4-ecdb-4dc1-b06c-bec24f031d45
DTSTART;TZID=Europe/Moscow:20230210T202500
DTEND;TZID=Europe/Moscow:20230210T220000
DESCRIPTION:Gorbatov V.S.\, Gavdan G.P.\, Durakovskiy A.P. M21-V02
LOCATION:dep.43
SUMMARY:Practical Training (Research Work)
RRULE:FREQ=WEEKLY;UNTIL=20230519T220000;WKST=MO
EXDATE:20230224T202500
END:VEVENT
BEGIN:VEVENT
DTSTAMP:20260419T120504Z
UID:53b2ce5e-5aa0-4c12-ae15-afdef474a7d2
DTSTART;TZID=Europe/Moscow:20230213T202500
DTEND;TZID=Europe/Moscow:20230213T220000
DESCRIPTION:Dyatlov D.A.\, Gorbatov V.S. M22-V02
LOCATION:T-108
SUMMARY:Information Security Management
RRULE:FREQ=WEEKLY;UNTIL=20230522T220000;WKST=MO
EXDATE:20230501T202500
EXDATE:20230508T202500
END:VEVENT
END:VCALENDAR
