BEGIN:VCALENDAR
VERSION:2.0
PRODID:icalendar-ruby
CALSCALE:GREGORIAN
METHOD:PUBLISH
BEGIN:VTIMEZONE
TZID:Europe/Moscow
BEGIN:STANDARD
DTSTART:19700101T000000
TZOFFSETFROM:+0300
TZOFFSETTO:+0300
TZNAME:MSK
END:STANDARD
END:VTIMEZONE
BEGIN:VEVENT
DTSTAMP:20260419T165402Z
UID:eb6132af-7f36-4efb-a69a-a64e8e66a181
DTSTART;TZID=Europe/Moscow:20230215T124500
DTEND;TZID=Europe/Moscow:20230215T142000
DESCRIPTION:Samotaev N.N. B20-403\, B20-465
LOCATION:D-408
SUMMARY:Materials Science in Micro-and Nanoelectronics
RRULE:FREQ=WEEKLY;UNTIL=20230510T142000;INTERVAL=2;WKST=MO
END:VEVENT
BEGIN:VEVENT
DTSTAMP:20260419T165402Z
UID:5ca02103-f953-4292-8194-482405815756
DTSTART;TZID=Europe/Moscow:20230208T143000
DTEND;TZID=Europe/Moscow:20230208T160500
DESCRIPTION:Samotaev N.N. B20-403\, B20-465
LOCATION:D-408
SUMMARY:Materials Science in Micro-and Nanoelectronics
RRULE:FREQ=WEEKLY;UNTIL=20230517T160500;WKST=MO
EXDATE:20230308T143000
END:VEVENT
BEGIN:VEVENT
DTSTAMP:20260419T165402Z
UID:2c664630-e485-4851-9b92-a86172ce17c1
DTSTART;TZID=Europe/Moscow:20230209T143000
DTEND;TZID=Europe/Moscow:20230209T160500
DESCRIPTION:Samotaev N.N. M22-423
LOCATION:dep.27
SUMMARY:Educational practice: design and technology
RRULE:FREQ=WEEKLY;UNTIL=20230518T160500;WKST=MO
EXDATE:20230223T143000
END:VEVENT
BEGIN:VEVENT
DTSTAMP:20260419T165402Z
UID:8ee8c419-cefa-46eb-9f82-af9de59d0a62
DTSTART;TZID=Europe/Moscow:20230215T143000
DTEND;TZID=Europe/Moscow:20230215T160500
DESCRIPTION:Samotaev N.N. M22-423
LOCATION:dep.27
SUMMARY:Practical Training (Research Work)
RRULE:FREQ=WEEKLY;UNTIL=20230510T160500;INTERVAL=2;WKST=MO
END:VEVENT
BEGIN:VEVENT
DTSTAMP:20260419T165402Z
UID:e0d34de9-9709-4c94-8832-fdf65c3a8f5a
DTSTART;TZID=Europe/Moscow:20230210T161500
DTEND;TZID=Europe/Moscow:20230210T175000
DESCRIPTION:Samotaev N.N. S19-402
LOCATION:dep.27
SUMMARY:
RRULE:FREQ=WEEKLY;UNTIL=20230519T175000;WKST=MO
EXDATE:20230224T161500
END:VEVENT
END:VCALENDAR
