BEGIN:VCALENDAR
VERSION:2.0
PRODID:icalendar-ruby
CALSCALE:GREGORIAN
METHOD:PUBLISH
BEGIN:VTIMEZONE
TZID:Europe/Moscow
BEGIN:STANDARD
DTSTART:19700101T000000
TZOFFSETFROM:+0300
TZOFFSETTO:+0300
TZNAME:MSK
END:STANDARD
END:VTIMEZONE
BEGIN:VEVENT
DTSTAMP:20260420T012115Z
UID:9f28ddc0-2458-4ace-82be-4c9422a34d18
DTSTART;TZID=Europe/Moscow:20230209T101500
DTEND;TZID=Europe/Moscow:20230209T115000
DESCRIPTION:Maksimov E.M. M22-413
LOCATION:E-207
SUMMARY:Methods of applied statistics in electronics
RRULE:FREQ=WEEKLY;UNTIL=20230518T115000;INTERVAL=2;WKST=MO
EXDATE:20230223T101500
END:VEVENT
BEGIN:VEVENT
DTSTAMP:20260420T012115Z
UID:c9f58001-1b35-40f7-8828-7eae9e1a8175
DTSTART;TZID=Europe/Moscow:20230216T101500
DTEND;TZID=Europe/Moscow:20230216T115000
DESCRIPTION:Maksimov E.M. M22-413
LOCATION:E-207
SUMMARY:Methods of applied statistics in electronics
RRULE:FREQ=WEEKLY;UNTIL=20230511T115000;INTERVAL=2;WKST=MO
END:VEVENT
END:VCALENDAR
