BEGIN:VCALENDAR
VERSION:2.0
PRODID:icalendar-ruby
CALSCALE:GREGORIAN
METHOD:PUBLISH
BEGIN:VTIMEZONE
TZID:Europe/Moscow
BEGIN:STANDARD
DTSTART:19700101T000000
TZOFFSETFROM:+0300
TZOFFSETTO:+0300
TZNAME:MSK
END:STANDARD
END:VTIMEZONE
BEGIN:VEVENT
DTSTAMP:20260420T043330Z
UID:d80e4883-c230-40d0-8cb1-c2066ae8c05c
DTSTART;TZID=Europe/Moscow:20230207T143000
DTEND;TZID=Europe/Moscow:20230207T160500
DESCRIPTION:Smirnov A.Y.\, Sulaberidze G.A. M22-405
LOCATION:A-115
SUMMARY:Selected chapters of separation process physics
RRULE:FREQ=WEEKLY;UNTIL=20230425T160500;WKST=MO
END:VEVENT
BEGIN:VEVENT
DTSTAMP:20260420T043330Z
UID:1fb02a1e-289a-4ea2-a539-b8291d58f467
DTSTART;TZID=Europe/Moscow:20230209T143000
DTEND;TZID=Europe/Moscow:20230209T160500
DESCRIPTION:Smirnov A.Y.\, Sulaberidze G.A. B19-402
LOCATION:A-115
SUMMARY:Selected chapters of separation process physics
RRULE:FREQ=WEEKLY;UNTIL=20230420T160500;INTERVAL=2;WKST=MO
EXDATE:20230223T143000
END:VEVENT
END:VCALENDAR
