BEGIN:VCALENDAR
VERSION:2.0
PRODID:icalendar-ruby
CALSCALE:GREGORIAN
METHOD:PUBLISH
BEGIN:VTIMEZONE
TZID:Europe/Moscow
BEGIN:STANDARD
DTSTART:19700101T000000
TZOFFSETFROM:+0300
TZOFFSETTO:+0300
TZNAME:MSK
END:STANDARD
END:VTIMEZONE
BEGIN:VEVENT
DTSTAMP:20260419T221105Z
UID:de1b0cde-63fe-46ea-a8dc-020f027797c9
DTSTART;TZID=Europe/Moscow:20230209T092000
DTEND;TZID=Europe/Moscow:20230209T124000
DESCRIPTION:Avramchuk A.V.\, Vasilievskiy I.S.\, Borisenko D.P. B19-401
LOCATION:dep.67
SUMMARY:Practical Training (Research Work)
RRULE:FREQ=WEEKLY;UNTIL=20230406T124000;WKST=MO
EXDATE:20230223T092000
END:VEVENT
BEGIN:VEVENT
DTSTAMP:20260419T221105Z
UID:8deaa988-d4ac-4e96-9e63-976f032a49de
DTSTART;TZID=Europe/Moscow:20230213T110500
DTEND;TZID=Europe/Moscow:20230213T142000
DESCRIPTION:Ladugin M.A.\, Avramchuk A.V.\, Migas D.B. B19-403
LOCATION:dep.67
SUMMARY:
RRULE:FREQ=WEEKLY;UNTIL=20230424T142000;INTERVAL=2;WKST=MO
END:VEVENT
BEGIN:VEVENT
DTSTAMP:20260419T221105Z
UID:74cc6866-e88d-4d9d-8fee-153920d8a10d
DTSTART;TZID=Europe/Moscow:20230213T115500
DTEND;TZID=Europe/Moscow:20230213T142000
DESCRIPTION:Avramchuk A.V.\, Ryndya S.M.\, Shkurinov A.P.\, Gusev A.S. 
 B19-401
LOCATION:V-116
SUMMARY:
RRULE:FREQ=WEEKLY;UNTIL=20230417T142000;WKST=MO
END:VEVENT
BEGIN:VEVENT
DTSTAMP:20260419T221105Z
UID:6c6e5346-99c1-42ad-abc1-2673908a2440
DTSTART;TZID=Europe/Moscow:20230208T115500
DTEND;TZID=Europe/Moscow:20230208T133000
DESCRIPTION:Gaponenko N.V.\, Avramchuk A.V.\, Lazaruk S.K.\, Dabagov S.
 B. M22-403
LOCATION:dep.67
SUMMARY:Educational practice: design and technology
RRULE:FREQ=WEEKLY;UNTIL=20230517T133000;WKST=MO
EXDATE:20230308T115500
END:VEVENT
BEGIN:VEVENT
DTSTAMP:20260419T221105Z
UID:5d456866-f792-4630-ae0a-95bfd87753b2
DTSTART;TZID=Europe/Moscow:20230207T115500
DTEND;TZID=Europe/Moscow:20230207T133000
DESCRIPTION:Avramchuk A.V.\, Martynov I.L. B22-401\, B22-403\, B22-413
LOCATION:408
SUMMARY:Project Workshop  (Introduction To Profession)
RRULE:FREQ=WEEKLY;UNTIL=20230516T133000;INTERVAL=2;WKST=MO
END:VEVENT
BEGIN:VEVENT
DTSTAMP:20260419T221105Z
UID:df8ce33e-c6e6-4c87-b584-c135e739d18d
DTSTART;TZID=Europe/Moscow:20230214T115500
DTEND;TZID=Europe/Moscow:20230214T133000
DESCRIPTION:Avramchuk A.V. B22-401
LOCATION:dep.67
SUMMARY:Project Workshop  (Introduction To Profession)
RRULE:FREQ=WEEKLY;UNTIL=20230509T133000;INTERVAL=2;WKST=MO
EXDATE:20230509T115500
END:VEVENT
BEGIN:VEVENT
DTSTAMP:20260419T221105Z
UID:7420f49b-b443-4ae0-8939-73afd5d95980
DTSTART;TZID=Europe/Moscow:20230214T115500
DTEND;TZID=Europe/Moscow:20230214T133000
DESCRIPTION:Avramchuk A.V. B22-403
LOCATION:dep.67
SUMMARY:Project Workshop  (Introduction To Profession)
RRULE:FREQ=WEEKLY;UNTIL=20230509T133000;INTERVAL=2;WKST=MO
EXDATE:20230509T115500
END:VEVENT
BEGIN:VEVENT
DTSTAMP:20260419T221105Z
UID:cf0e9f43-37ba-4bd3-b410-04e50c488f36
DTSTART;TZID=Europe/Moscow:20230207T124500
DTEND;TZID=Europe/Moscow:20230207T142000
DESCRIPTION:Migas D.B.\, Burobin V.A.\, Baykova O.A.\, Avramchuk A.V.\,
  Ryzhuk R.V. B21-403
LOCATION:33-302
SUMMARY:Project Workshop  (Introduction To Profession)
RRULE:FREQ=WEEKLY;UNTIL=20230516T142000;INTERVAL=2;WKST=MO
END:VEVENT
BEGIN:VEVENT
DTSTAMP:20260419T221105Z
UID:e688b645-7a02-4fa9-a8b1-be35d1defc21
DTSTART;TZID=Europe/Moscow:20230210T143000
DTEND;TZID=Europe/Moscow:20230210T160500
DESCRIPTION:Shkurinov A.P.\, Avramchuk A.V.\, Gusev A.S.\, Ryndya S.M. 
 B19-401
LOCATION:V-115
SUMMARY:
RRULE:FREQ=WEEKLY;UNTIL=20230407T160500;WKST=MO
EXDATE:20230224T143000
END:VEVENT
BEGIN:VEVENT
DTSTAMP:20260419T221105Z
UID:bbd486cf-1dd6-49be-acab-e9c387147106
DTSTART;TZID=Europe/Moscow:20230214T161500
DTEND;TZID=Europe/Moscow:20230214T175000
DESCRIPTION:Nikitenko V.R.\, Martynov I.L.\, Dabagov S.B.\, Borisenko D
 .P.\, Avramchuk A.V.\, Kargin N.I. B21-401\, B21-403\, B21-413
LOCATION:V-403
SUMMARY:Project Workshop  (Introduction To Profession)
RRULE:FREQ=WEEKLY;UNTIL=20230509T175000;INTERVAL=2;WKST=MO
EXDATE:20230509T161500
END:VEVENT
BEGIN:VEVENT
DTSTAMP:20260419T221105Z
UID:7e848d98-d051-49d9-9f31-1ea80285bc4a
DTSTART;TZID=Europe/Moscow:20230207T175500
DTEND;TZID=Europe/Moscow:20230207T211000
DESCRIPTION:Vasilievskiy I.S.\, Gusev A.S.\, Brykin A.V.\, Avramchuk A.
 V. B19-403
LOCATION:33-302
SUMMARY:Heterogeneous land mass and technology of microwave electronics
RRULE:FREQ=WEEKLY;UNTIL=20230425T211000;WKST=MO
END:VEVENT
BEGIN:VEVENT
DTSTAMP:20260419T221105Z
UID:3699b1bf-bd25-4db3-a987-6f10a4c32c30
DTSTART;TZID=Europe/Moscow:20230210T184500
DTEND;TZID=Europe/Moscow:20230210T202000
DESCRIPTION:Avramchuk A.V. M21-403\, M21-413
LOCATION:33-302
SUMMARY:Physics: Molecular Beam Epitaxy
RRULE:FREQ=WEEKLY;UNTIL=20230310T202000;WKST=MO
EXDATE:20230224T184500
END:VEVENT
BEGIN:VEVENT
DTSTAMP:20260419T221105Z
UID:6cf738fa-fb9a-4a70-be2e-859226594a15
DTSTART;TZID=Europe/Moscow:20230303T101500
DTEND;TZID=Europe/Moscow:20230303T133000
DESCRIPTION:Avramchuk A.V.\, Vasilievskiy I.S.\, Brykin A.V. B19-401
LOCATION:33-304
SUMMARY:
RRULE:FREQ=WEEKLY;UNTIL=20230407T133000;WKST=MO
END:VEVENT
END:VCALENDAR
