BEGIN:VCALENDAR
VERSION:2.0
PRODID:icalendar-ruby
CALSCALE:GREGORIAN
METHOD:PUBLISH
BEGIN:VTIMEZONE
TZID:Europe/Moscow
BEGIN:STANDARD
DTSTART:19700101T000000
TZOFFSETFROM:+0300
TZOFFSETTO:+0300
TZNAME:MSK
END:STANDARD
END:VTIMEZONE
BEGIN:VEVENT
DTSTAMP:20260419T221114Z
UID:e89ae31d-984e-42f5-8c1e-66655bbe9cdd
DTSTART;TZID=Europe/Moscow:20230207T161500
DTEND;TZID=Europe/Moscow:20230207T175000
DESCRIPTION:Borodkin A.V.\, Salmin V.V. M22-303
LOCATION:IOF RAN
SUMMARY:Industry Primary Professional Skills workshop
RRULE:FREQ=WEEKLY;UNTIL=20230516T175000;WKST=MO
EXDATE:20230509T161500
END:VEVENT
END:VCALENDAR
