BEGIN:VCALENDAR
VERSION:2.0
PRODID:icalendar-ruby
CALSCALE:GREGORIAN
METHOD:PUBLISH
BEGIN:VTIMEZONE
TZID:Europe/Moscow
BEGIN:STANDARD
DTSTART:19700101T000000
TZOFFSETFROM:+0300
TZOFFSETTO:+0300
TZNAME:MSK
END:STANDARD
END:VTIMEZONE
BEGIN:VEVENT
DTSTAMP:20260420T012104Z
UID:e3e01a37-ee66-4119-a998-48a5373e69a9
DTSTART;TZID=Europe/Moscow:20230209T101500
DTEND;TZID=Europe/Moscow:20230209T115000
DESCRIPTION:Zaharkiv A.Y. M22-301\, M22-311
LOCATION:64-306
SUMMARY:Positron Emission Tomography
RRULE:FREQ=WEEKLY;UNTIL=20230518T115000;WKST=MO
EXDATE:20230223T101500
END:VEVENT
BEGIN:VEVENT
DTSTAMP:20260420T012104Z
UID:53ace95c-bc87-4369-96e7-7b84c39a85b9
DTSTART;TZID=Europe/Moscow:20230207T101500
DTEND;TZID=Europe/Moscow:20230207T115000
DESCRIPTION:Zaharkiv A.Y.\, Zavestovskaya I.N. B21-301\, B21-311
LOCATION:B-208
SUMMARY:Introduction to the Profession
RRULE:FREQ=WEEKLY;UNTIL=20230418T115000;INTERVAL=2;WKST=MO
END:VEVENT
BEGIN:VEVENT
DTSTAMP:20260420T012104Z
UID:dfb0a477-9212-4d89-951a-faff981302c6
DTSTART;TZID=Europe/Moscow:20230214T101500
DTEND;TZID=Europe/Moscow:20230214T115000
DESCRIPTION:Zaharkiv A.Y.\, Zavestovskaya I.N. B21-301\, B21-311
LOCATION:B-208
SUMMARY:Introduction to the Profession
RRULE:FREQ=WEEKLY;UNTIL=20230411T115000;INTERVAL=2;WKST=MO
END:VEVENT
BEGIN:VEVENT
DTSTAMP:20260420T012104Z
UID:a4048d27-ede4-4ed7-ba10-103d45ebc4b0
DTSTART;TZID=Europe/Moscow:20230208T115500
DTEND;TZID=Europe/Moscow:20230208T151500
DESCRIPTION:Zaharkiv A.Y. M21-381
LOCATION:64-306
SUMMARY:Positron Emission Tomography
RRULE:FREQ=WEEKLY;UNTIL=20230215T151500;WKST=MO
END:VEVENT
BEGIN:VEVENT
DTSTAMP:20260420T012104Z
UID:e3615996-7648-4b26-879a-dfd90b9a9c97
DTSTART;TZID=Europe/Moscow:20230209T115500
DTEND;TZID=Europe/Moscow:20230209T124000
DESCRIPTION:Zaharkiv A.Y. M22-301\, M22-311
LOCATION:64-306
SUMMARY:Positron Emission Tomography
RRULE:FREQ=WEEKLY;UNTIL=20230518T124000;WKST=MO
EXDATE:20230223T115500
END:VEVENT
BEGIN:VEVENT
DTSTAMP:20260420T012104Z
UID:afa954c2-5a4a-4909-a873-3c1b2d5c6bd0
DTSTART;TZID=Europe/Moscow:20230207T124500
DTEND;TZID=Europe/Moscow:20230207T142000
DESCRIPTION:Zaharkiv A.Y.\, Dvoryanchikov A.V. B19-301\, B19-302
LOCATION:B-212st
SUMMARY:
RRULE:FREQ=WEEKLY;UNTIL=20230418T142000;WKST=MO
END:VEVENT
BEGIN:VEVENT
DTSTAMP:20260420T012104Z
UID:6570a2df-9ea1-4776-9274-74307604a0d1
DTSTART;TZID=Europe/Moscow:20230208T124500
DTEND;TZID=Europe/Moscow:20230208T142000
DESCRIPTION:Dubov L.Y.\, Gromushkina E.V.\, Belyaev V.N.\, Shtotskiy Y.
 V.\, Lebedenko I.M.\, Zaharkiv A.Y. M22-301\, M22-311
LOCATION:dep.35
SUMMARY:Practical Training (Research Work)
RRULE:FREQ=WEEKLY;UNTIL=20230517T142000;WKST=MO
EXDATE:20230308T124500
END:VEVENT
BEGIN:VEVENT
DTSTAMP:20260420T012104Z
UID:35dc147b-42ae-4c7b-b192-90c7c11a7da3
DTSTART;TZID=Europe/Moscow:20230207T143000
DTEND;TZID=Europe/Moscow:20230207T160500
DESCRIPTION:Zaharkiv A.Y.\, Dvoryanchikov A.V. B19-302
LOCATION:V-115
SUMMARY:
RRULE:FREQ=WEEKLY;UNTIL=20230418T160500;WKST=MO
END:VEVENT
BEGIN:VEVENT
DTSTAMP:20260420T012104Z
UID:fbc113e8-d4b7-4661-b38e-03712267b118
DTSTART;TZID=Europe/Moscow:20230211T143000
DTEND;TZID=Europe/Moscow:20230211T160500
DESCRIPTION:Zaharkiv A.Y.\, Belyaev V.N. B20-301
LOCATION:dep.35
SUMMARY:
RRULE:FREQ=WEEKLY;UNTIL=20230520T160500;WKST=MO
END:VEVENT
BEGIN:VEVENT
DTSTAMP:20260420T012104Z
UID:54390767-8861-40c2-87fb-0fe489dd3a5a
DTSTART;TZID=Europe/Moscow:20230213T152000
DTEND;TZID=Europe/Moscow:20230213T202000
DESCRIPTION:Belyaev V.N.\, Dubov L.Y.\, Gromushkina E.V.\, Shtotskiy Y.
 V.\, Lebedenko I.M.\, Zaharkiv A.Y. M21-301\, M21-311\, M21-381
LOCATION:dep.35
SUMMARY:Practical Training (Research Work)
RRULE:FREQ=WEEKLY;UNTIL=20230313T202000;WKST=MO
END:VEVENT
BEGIN:VEVENT
DTSTAMP:20260420T012104Z
UID:38b0a75b-3e42-40bd-9f0a-53f853172721
DTSTART;TZID=Europe/Moscow:20230209T152000
DTEND;TZID=Europe/Moscow:20230209T202000
DESCRIPTION:Zaharkiv A.Y.\, Belyaev V.N. M21-301\, M21-311
LOCATION:dep.35
SUMMARY:Industry Workshop:  Pedagogy
RRULE:FREQ=WEEKLY;UNTIL=20230309T202000;WKST=MO
EXDATE:20230223T152000
END:VEVENT
BEGIN:VEVENT
DTSTAMP:20260420T012105Z
UID:445cbcee-7bce-4d46-a934-3adacefeceb4
DTSTART;TZID=Europe/Moscow:20230209T161500
DTEND;TZID=Europe/Moscow:20230209T184000
DESCRIPTION:Zaharkiv A.Y. B20-101\, S19-103
LOCATION:B-208
SUMMARY:Medical and Biological Principles of Radiation Safety
RRULE:FREQ=WEEKLY;UNTIL=20230309T184000;WKST=MO
EXDATE:20230223T161500
END:VEVENT
BEGIN:VEVENT
DTSTAMP:20260420T012105Z
UID:4b8910fb-5d32-48e9-a8e5-b88a3fea5d6f
DTSTART;TZID=Europe/Moscow:20230207T161500
DTEND;TZID=Europe/Moscow:20230207T184000
DESCRIPTION:Zaharkiv A.Y. B19-301
LOCATION:V-115
SUMMARY:
RRULE:FREQ=WEEKLY;UNTIL=20230425T184000;WKST=MO
END:VEVENT
BEGIN:VEVENT
DTSTAMP:20260420T012105Z
UID:f3e8617d-c7d6-4ed9-9476-8c66bf9e1983
DTSTART;TZID=Europe/Moscow:20230209T161500
DTEND;TZID=Europe/Moscow:20230209T184000
DESCRIPTION:Lebedenko I.M.\, Shtotskiy Y.V.\, Zaharkiv A.Y.\, Dubov L.Y
 .\, Gromushkina E.V.\, Belyaev V.N. B19-301
LOCATION:dep.35
SUMMARY:
RRULE:FREQ=WEEKLY;UNTIL=20230427T184000;WKST=MO
EXDATE:20230223T161500
END:VEVENT
BEGIN:VEVENT
DTSTAMP:20260420T012105Z
UID:125987b2-8e8d-40a8-96ff-f760431862f5
DTSTART;TZID=Europe/Moscow:20230213T161500
DTEND;TZID=Europe/Moscow:20230213T175000
DESCRIPTION:Zaharkiv A.Y. B22-301
LOCATION:dep.35
SUMMARY:Practicum Project 
RRULE:FREQ=WEEKLY;UNTIL=20230522T175000;INTERVAL=2;WKST=MO
EXDATE:20230508T161500
END:VEVENT
BEGIN:VEVENT
DTSTAMP:20260420T012105Z
UID:cf7796e2-8b2a-4157-8459-78ad4cf039e5
DTSTART;TZID=Europe/Moscow:20230213T161500
DTEND;TZID=Europe/Moscow:20230213T175000
DESCRIPTION:Zaharkiv A.Y. B22-311
LOCATION:dep.35
SUMMARY:Practicum Project 
RRULE:FREQ=WEEKLY;UNTIL=20230522T175000;INTERVAL=2;WKST=MO
EXDATE:20230508T161500
END:VEVENT
BEGIN:VEVENT
DTSTAMP:20260420T012105Z
UID:edcfd361-43dc-42ec-8629-8ee00b8195d7
DTSTART;TZID=Europe/Moscow:20230222T115500
DTEND;TZID=Europe/Moscow:20230222T151500
DESCRIPTION:Zaharkiv A.Y. M21-381
LOCATION:64-306
SUMMARY:Positron Emission Tomography
RRULE:FREQ=WEEKLY;UNTIL=20230308T151500;WKST=MO
EXDATE:20230308T115500
END:VEVENT
BEGIN:VEVENT
DTSTAMP:20260420T012105Z
UID:5c6cf65b-27f5-4841-a6b6-bf8f301944b8
DTSTART;TZID=Europe/Moscow:20230316T161500
DTEND;TZID=Europe/Moscow:20230316T184000
DESCRIPTION:Zaharkiv A.Y. B20-101\, S19-103
LOCATION:B-208
SUMMARY:Medical and Biological Principles of Radiation Safety
RRULE:FREQ=WEEKLY;UNTIL=20230413T184000;WKST=MO
END:VEVENT
BEGIN:VEVENT
DTSTAMP:20260420T012105Z
UID:03104f4c-8e4b-4703-a9dc-186d35ce4804
DTSTART;TZID=Europe/Moscow:20230420T161500
DTEND;TZID=Europe/Moscow:20230420T184000
DESCRIPTION:Zaharkiv A.Y. B20-101\, S19-103
LOCATION:B-208
SUMMARY:Medical and Biological Principles of Radiation Safety
RRULE:FREQ=WEEKLY;UNTIL=20230518T184000;WKST=MO
END:VEVENT
BEGIN:VEVENT
DTSTAMP:20260420T012105Z
UID:ff2be98d-bac3-4ee8-8e05-e98486c1ae2b
DTSTART;TZID=Europe/Moscow:20230502T101500
DTEND;TZID=Europe/Moscow:20230502T115000
DESCRIPTION:Zaharkiv A.Y.\, Zavestovskaya I.N. B21-301\, B21-311
LOCATION:405
SUMMARY:Introduction to the Profession
RRULE:FREQ=WEEKLY;UNTIL=20230516T115000;INTERVAL=2;WKST=MO
END:VEVENT
BEGIN:VEVENT
DTSTAMP:20260420T012105Z
UID:cbca3fa9-8549-4d29-9458-49c1829ae1c2
DTSTART;TZID=Europe/Moscow:20230425T101500
DTEND;TZID=Europe/Moscow:20230425T115000
DESCRIPTION:Zavestovskaya I.N.\, Zaharkiv A.Y. B21-301\, B21-311
LOCATION:405
SUMMARY:Introduction to the Profession
RRULE:FREQ=WEEKLY;UNTIL=20230509T115000;INTERVAL=2;WKST=MO
EXDATE:20230509T101500
END:VEVENT
END:VCALENDAR
