BEGIN:VCALENDAR
VERSION:2.0
PRODID:icalendar-ruby
CALSCALE:GREGORIAN
METHOD:PUBLISH
BEGIN:VTIMEZONE
TZID:Europe/Moscow
BEGIN:STANDARD
DTSTART:19700101T000000
TZOFFSETFROM:+0300
TZOFFSETTO:+0300
TZNAME:MSK
END:STANDARD
END:VTIMEZONE
BEGIN:VEVENT
DTSTAMP:20260420T071649Z
UID:da48a544-e27b-4e14-8254-4fc3561d0961
DTSTART;TZID=Europe/Moscow:20230207T110500
DTEND;TZID=Europe/Moscow:20230207T124000
DESCRIPTION:Palchikov V.G.\, Borisyuk P.V. M22-209
LOCATION:dep.78
SUMMARY:Practical Training (Research Work)
RRULE:FREQ=WEEKLY;UNTIL=20230516T124000;WKST=MO
EXDATE:20230509T110500
END:VEVENT
BEGIN:VEVENT
DTSTAMP:20260420T071649Z
UID:6c2e8f6d-1d12-4b69-8bc7-3c215f5f443c
DTSTART;TZID=Europe/Moscow:20230213T115500
DTEND;TZID=Europe/Moscow:20230213T170000
DESCRIPTION:Palchikov V.G.\, Borisyuk P.V. M21-287
LOCATION:dep.78
SUMMARY:Practical Training (Research Work)
RRULE:FREQ=WEEKLY;UNTIL=20230417T170000;WKST=MO
END:VEVENT
BEGIN:VEVENT
DTSTAMP:20260420T071649Z
UID:791cb40b-a832-4de6-80bd-10e7bf3e587a
DTSTART;TZID=Europe/Moscow:20230208T143000
DTEND;TZID=Europe/Moscow:20230208T160500
DESCRIPTION:Palchikov V.G. M22-209
LOCATION:5-204
SUMMARY:Metrology of Time and Frequency
RRULE:FREQ=WEEKLY;UNTIL=20230222T160500;WKST=MO
END:VEVENT
BEGIN:VEVENT
DTSTAMP:20260420T071649Z
UID:b648c630-6abc-4a04-a301-6d5e2382e30a
DTSTART;TZID=Europe/Moscow:20230210T143000
DTEND;TZID=Europe/Moscow:20230210T160500
DESCRIPTION:Palchikov V.G.\, Borisyuk P.V. B19-211
LOCATION:dep.78
SUMMARY:
RRULE:FREQ=WEEKLY;UNTIL=20230421T160500;WKST=MO
EXDATE:20230224T143000
END:VEVENT
BEGIN:VEVENT
DTSTAMP:20260420T071649Z
UID:4951486d-3727-4be8-a496-8a37810fda5d
DTSTART;TZID=Europe/Moscow:20230301T143000
DTEND;TZID=Europe/Moscow:20230301T160500
DESCRIPTION:Palchikov V.G. M22-209
LOCATION:5-204
SUMMARY:Metrology of Time and Frequency
RRULE:FREQ=WEEKLY;UNTIL=20230517T160500;WKST=MO
EXDATE:20230308T143000
END:VEVENT
END:VCALENDAR
